BEGIN:VCALENDAR
VERSION:2.0
PRODID:-//ChamberMaster//Event Calendar 2.0//EN
METHOD:PUBLISH
X-PUBLISHED-TTL:P3D
REFRESH-INTERVAL:P3D
CALSCALE:GREGORIAN
BEGIN:VEVENT
DTSTART;VALUE=DATE:20240622
DTEND;VALUE=DATE:20240623
TRANSP:TRANSPARENT
X-MICROSOFT-CDO-ALLDAYEVENT:TRUE
SUMMARY:4th Annual Summer Solstice Festival
DESCRIPTION:Celebrate the longest day of the year with food trucks\, live music\, beer garden\, sport tournaments\, kids games and much more!\n\n \n\nEvent will be held Culver Community Park!\n\n \n\nFull Schedule of Events coming soon.
X-ALT-DESC;FMTTYPE=text/html:<div color:="" font-size:="" segoe="" ui="">Celebrate the longest day of the year with food trucks\, live music\, beer garden\, sport tournaments\, kids games and much more!<br />\n&nbsp\;</div>\n\n<div color:="" font-size:="" segoe="" ui="">Event will be held Culver Community Park!<br />\n&nbsp\;</div>\n\n<div color:="" font-size:="" segoe="" ui="">Full Schedule of Events coming soon.</div>\n
LOCATION:Culver Community Park
UID:e.1184.32310
SEQUENCE:3
DTSTAMP:20260419T192019Z
URL:http://members.saukprairie.com/events/details/4th-annual-summer-solstice-festival-32310
END:VEVENT

END:VCALENDAR
