BEGIN:VCALENDAR
VERSION:2.0
PRODID:-//ChamberMaster//Event Calendar 2.0//EN
METHOD:PUBLISH
X-PUBLISHED-TTL:P3D
REFRESH-INTERVAL:P3D
CALSCALE:GREGORIAN
BEGIN:VEVENT
DTSTART:20220704T153000Z
DTEND:20220704T200000Z
X-MICROSOFT-CDO-ALLDAYEVENT:FALSE
SUMMARY:4th of July Celebration!
DESCRIPTION:We've Come Home to Black Hawk 4th of July Celebration!\n\n\n\n4th of JULY CELEBRATION\n\nIn Black Hawk!\n\n\n\nOrganized by the Black Hawk-Bethlehem & Denzer United Methodist Churches\n\n\n\n10:30 AM PARADE THRU BLACK HAWK\n\nOn County Rd C beginning at School Road to County Road O\n\n\n\nPARADE REGISTRATION REQUIRED: Contact Parade Committee @\n\n4thblackhawkparaderegistering@gmail.com\n\nClick here to sign up to be in the parade.\n\nClick here to view more about the parade.\n\n\n\n11:30 AM-2:00 PM\n\nGrilled Chicken Dinner cash sales only\n\nServing at Black Hawk-Bethlehem Church\n\nS10174 Cty Rd. C\n\n\n\n14 meal includes   chicken\, cole slaw\, baked beans\, dinner roll chips \, milk\n\n$8 Chic ken   only\n\nTent with Tables and chairs avail able for eating on the grounds\n\nBring your lawn chairs & blankets\n\nPie Slices\, Brats & Dogs\, Soda\, Ice Cream Treats\n\nT-Shirts & Toys For Sale\n\n\n\n1:00 PM Olde Time Yard Games & Races\n\n\n\nFace Book: 4th of July Celebration-Black Hawk\, WI\n\nbhbumc.org or Sauk Prairie Chamber website
X-ALT-DESC;FMTTYPE=text/html:<span style="font-size:16px\;"><strong>We&rsquo\;ve Come Home to Black Hawk 4th of July Celebration!</strong></span><br />\n<br />\n<span style="font-size:20px\;"><strong>4th of JULY CELEBRATION<br />\nIn Black Hawk!</strong></span><br />\n<br />\nOrganized by the Black Hawk-Bethlehem &amp\; Denzer United Methodist Churches<br />\n<br />\n10:30 AM PARADE THRU BLACK HAWK<br />\nOn County Rd C beginning at School Road to County Road O<br />\n<br />\nPARADE REGISTRATION REQUIRED: Contact Parade Committee @<br />\n4thblackhawkparaderegistering@gmail.com<br />\n<a href="https://forms.gle/xA7KmJwhRk7s2G2w8">Click here to sign up to be in the parade.</a><br />\n<a href="https://chambermaster.blob.core.windows.net/userfiles/UserFiles/chambers/1184/File/2022PARADERULES.pdf">Click here to view more about the parade.</a><br />\n<br />\n11:30 AM-2:00 PM<br />\nGrilled Chicken Dinner cash sales only<br />\nServing at Black Hawk-Bethlehem Church<br />\nS10174 Cty Rd. C<br />\n<br />\n14 meal includes &frac12\; chicken\, cole slaw\, baked beans\, dinner roll chips \, milk<br />\n$8 Chic ken &frac12\; only<br />\nTent with Tables and chairs avail able for eating on the grounds<br />\nBring your lawn chairs &amp\; blankets<br />\nPie Slices\, Brats &amp\; Dogs\, Soda\, Ice Cream Treats<br />\nT-Shirts &amp\; Toys For Sale<br />\n<br />\n1:00 PM Olde Time Yard Games &amp\; Races<br />\n<br />\nFace Book: 4th of July Celebration-Black Hawk\, WI<br />\nbhbumc.org or Sauk Prairie Chamber website
LOCATION:
UID:e.1184.27128
SEQUENCE:3
DTSTAMP:20260421T103534Z
URL:http://members.saukprairie.com/events/details/4th-of-july-celebration-27128
END:VEVENT

END:VCALENDAR
