BEGIN:VCALENDAR
VERSION:2.0
PRODID:-//ChamberMaster//Event Calendar 2.0//EN
METHOD:PUBLISH
X-PUBLISHED-TTL:P3D
REFRESH-INTERVAL:P3D
CALSCALE:GREGORIAN
BEGIN:VEVENT
DTSTART:20200705T010000Z
DTEND:20200705T040000Z
X-MICROSOFT-CDO-ALLDAYEVENT:FALSE
SUMMARY:4th of July Fireworks Extravaganza Cruise with Lake Wisconsin Cruises on the Wisconsin River
DESCRIPTION:4th of July Fireworks Cruise on the Wisconsin River in Sauk Prairie\, Saturday July 4th! Join Lake Wisconsin Cruises for a panoramic view of the fireworks from the MoonShine yacht. Enjoy your favorite drink or try your new favorite from our special drink menu in our full cash bar. Sodas and juices available\, light snacks provided. We will depart Moon Valley Marina at 8pm. We will tour the Wisconsin River and have the best view of the Sauk Prairie fireworks north of the dam.
X-ALT-DESC;FMTTYPE=text/html:<span style="background-color:rgb(255\, 255\, 255)\; color:rgb(51\, 51\, 51)\; font-family:trebuchet ms\,helvetica neue\,helvetica\,tahoma\,sans-serif\; font-size:14.4px">4th of July Fireworks Cruise on the Wisconsin River in Sauk Prairie\, Saturday July 4th! Join Lake Wisconsin Cruises for a panoramic view of the fireworks from the MoonShine yacht. Enjoy your favorite drink or try your new favorite from our special drink menu in our full cash bar. Sodas and juices available\, light snacks provided. We will depart Moon Valley Marina at 8pm. We will tour the Wisconsin River and have the best view of the Sauk Prairie fireworks north of the dam.</span>
LOCATION:Lake Wisconsin Cruises\, located at Moon Valley Marina\, Merrimac\, WI
UID:e.1184.24145
SEQUENCE:3
DTSTAMP:20260422T195344Z
URL:http://members.saukprairie.com/events/details/4th-of-july-fireworks-extravaganza-cruise-with-lake-wisconsin-cruises-on-the-wisconsin-river-24145
END:VEVENT

END:VCALENDAR
