BEGIN:VCALENDAR
VERSION:2.0
PRODID:-//ChamberMaster//Event Calendar 2.0//EN
METHOD:PUBLISH
X-PUBLISHED-TTL:P3D
REFRESH-INTERVAL:P3D
CALSCALE:GREGORIAN
BEGIN:VEVENT
DTSTART:20190822T133000Z
DTEND:20190826T223000Z
X-MICROSOFT-CDO-ALLDAYEVENT:FALSE
SUMMARY:5 Day Cameo Cleaning House Sale
DESCRIPTION:Huge store wide sale! 15% to 70% off!\n\nExtended hours for the sale: 8:30 am to 5:30 pm!\n\nDealers will have their booths stocked full of treasures.
X-ALT-DESC;FMTTYPE=text/html:<span style="color: rgb(29\, 33\, 41)\; font-family: Helvetica\, Arial\, sans-serif\; font-size: 14px\; white-space: pre-wrap\;">Huge store wide sale! 15% to 70% off!</span><br style="color: rgb(29\, 33\, 41)\; font-family: Helvetica\, Arial\, sans-serif\; font-size: 14px\; white-space: pre-wrap\;" />\n<span style="color: rgb(29\, 33\, 41)\; font-family: Helvetica\, Arial\, sans-serif\; font-size: 14px\; white-space: pre-wrap\;">Extended hours for the sale: 8:30 am to 5:30 pm!</span><br style="color: rgb(29\, 33\, 41)\; font-family: Helvetica\, Arial\, sans-serif\; font-size: 14px\; white-space: pre-wrap\;" />\n<span style="color: rgb(29\, 33\, 41)\; font-family: Helvetica\, Arial\, sans-serif\; font-size: 14px\; white-space: pre-wrap\;">Dealers will have their booths stocked full of treasures. </span>
LOCATION:Cameo Antique Mall 827 Water St. Sauk City\, WI 53583
UID:e.1184.22640
SEQUENCE:3
DTSTAMP:20260423T141735Z
URL:http://members.saukprairie.com/events/details/5-day-cameo-cleaning-house-sale-22640
END:VEVENT

END:VCALENDAR
