BEGIN:VCALENDAR
VERSION:2.0
PRODID:-//ChamberMaster//Event Calendar 2.0//EN
METHOD:PUBLISH
X-PUBLISHED-TTL:P3D
REFRESH-INTERVAL:P3D
CALSCALE:GREGORIAN
BEGIN:VEVENT
DTSTART:20211210T013000Z
DTEND:20211210T023000Z
X-MICROSOFT-CDO-ALLDAYEVENT:FALSE
SUMMARY:5 Days to Reawaken the Dreamer Inside You
DESCRIPTION:Free Virtual Workshop for Grieving Moms & Non-binary Parents!\n\nYou've learned to accept the death of your child and now you're wondering 'What's Next' for me? \n\n? Do you feel like you don't recognize yourself anymore?\n\n? Are you struggling with physical health issues? \n\n? Do you feel lost\, alone\, and unmotivated?\n\n? Are you sick of suffering and need a path to guide you?\n\nI know what you are feeling. My name is Michelle and I am a grieving mom who was sitting where you are right now\; feeling stuck\, lost\, unhealthy\, and unmotivated with no direction. You don't want to suffer like this anymore\, but don't know what to do next.
X-ALT-DESC;FMTTYPE=text/html:<h2 style="text-align:center">Free Virtual Workshop for Grieving Moms &amp\; Non-binary Parents!</h2>\n\n<p>You&rsquo\;ve learned to accept the death of your child and now you&rsquo\;re wondering &lsquo\;What&rsquo\;s Next&rsquo\; for me?&nbsp\;</p>\n\n<p>? Do you feel like&nbsp\;you&nbsp\;<strong>don&rsquo\;t recognize yourself</strong>&nbsp\;anymore?</p>\n\n<p>? Are you&nbsp\;<strong>struggling</strong> with <strong>physical health</strong>&nbsp\;issues?&nbsp\;</p>\n\n<p>? Do you feel&nbsp\;<strong>lost\,&nbsp\;alone</strong>\, and&nbsp\;<strong>unmotivated</strong>?</p>\n\n<p>? Are you&nbsp\;<strong>sick of suffering</strong>&nbsp\;and<strong>&nbsp\;need a path</strong>&nbsp\;to guide you?</p>\n\n<p>I know what you are feeling. My name is Michelle and I am a grieving mom who was sitting where you are right now\; feeling stuck\, lost\, unhealthy\, and unmotivated with no direction. You don&rsquo\;t want to suffer like this anymore\, but don&rsquo\;t know what to do next.&nbsp\;</p>\n
LOCATION:Virtual Event: www.lightoflovecoaching.com/workshop
UID:e.1184.26933
SEQUENCE:3
DTSTAMP:20260421T190716Z
URL:http://members.saukprairie.com/events/details/5-days-to-reawaken-the-dreamer-inside-you-12-09-2021-26933
END:VEVENT

END:VCALENDAR
