BEGIN:VCALENDAR
VERSION:2.0
PRODID:-//ChamberMaster//Event Calendar 2.0//EN
METHOD:PUBLISH
X-PUBLISHED-TTL:P3D
REFRESH-INTERVAL:P3D
CALSCALE:GREGORIAN
BEGIN:VEVENT
DTSTART:20190413T130000Z
DTEND:20190413T133000Z
X-MICROSOFT-CDO-ALLDAYEVENT:FALSE
SUMMARY:$5 Parent & Baby Pop-Up Workout Class at SP Fitness
DESCRIPTION:Excited to bring this fitness opportunity back to moms in our community!! This is a slow paced\, fun workout to be done with your babies in your arms or in a baby carrier. This is a great way to bond with your child under one and get a light full body workout.\n\nPlease register on MINDBODY app\, send email to becca.litscher@gmail.com\, or use the link below as space is limited to 8 mammas\n\n\n\n\n\nhttps://clients.mindbodyonline.com/ASP/adm/main_enroll.asp?studioid=654934&tg=&vt=&lvl=&stype=-102&view=day&trn=0&page=&catid=&prodid=&date=03%2f02%2f19&classid=0&prodGroupId=&sSU=&optForwardingLink=&qParam=&tabID=102
X-ALT-DESC;FMTTYPE=text/html:<p style="margin-left:0px\; margin-right:0px\; text-align:left">Excited to bring this fitness opportunity back to moms in our community!! This is a slow paced\, fun workout to be done with your babies in your arms or in a baby carrier. This is a great way to bond with your child under one and get a light full body workout.</p>\n\n<p style="margin-left:0px\; margin-right:0px\; text-align:left">Please register on MINDBODY app\, send email to becca.litscher@gmail.com\, or use the link below as space is limited to 8 mammas<br />\n<br />\n<br />\nhttps://clients.mindbodyonline.com/ASP/adm/main_enroll.asp?studioid=654934&amp\;tg=&amp\;vt=&amp\;lvl=&amp\;stype=-102&amp\;view=day&amp\;trn=0&amp\;page=&amp\;catid=&amp\;prodid=&amp\;date=03%2f02%2f19&amp\;classid=0&amp\;prodGroupId=&amp\;sSU=&amp\;optForwardingLink=&amp\;qParam=&amp\;tabID=102</p>\n
LOCATION:SP Fitness\, 744 Phillips BLVD\, Sauk City WI 53583
UID:e.1184.22166
SEQUENCE:3
DTSTAMP:20260423T190037Z
URL:http://members.saukprairie.com/events/details/5-parent-baby-pop-up-workout-class-at-sp-fitness-22166
END:VEVENT

END:VCALENDAR
