BEGIN:VCALENDAR
VERSION:2.0
PRODID:-//ChamberMaster//Event Calendar 2.0//EN
METHOD:PUBLISH
X-PUBLISHED-TTL:P3D
REFRESH-INTERVAL:P3D
CALSCALE:GREGORIAN
BEGIN:VEVENT
DTSTART:20190425T173000Z
DTEND:20190425T200000Z
X-MICROSOFT-CDO-ALLDAYEVENT:FALSE
SUMMARY:50th Annual Codger/Brat Game
DESCRIPTION:The 49-0 faculty/staff team of the UW-Platteville Baraboo Sauk County take on current students.  Come check out our annual campus tradition!
X-ALT-DESC;FMTTYPE=text/html:<div>\n<div>\n<div>\n<div>\n<div>\n<div>\n<div>\n<div>\n<div>\n<div>\n<div>\n<p>The 49-0 faculty/staff team of the UW-Platteville Baraboo Sauk County take on current students.&nbsp\; Come check out our annual campus tradition!</p>\n</div>\n</div>\n</div>\n</div>\n\n<div>&nbsp\;</div>\n</div>\n</div>\n</div>\n</div>\n</div>\n</div>\n</div>\n\n<div>\n<div>\n<div>\n<div>\n<div>\n<div>\n<div>\n<div>\n<div>\n<div>\n<div>\n<div>&nbsp\;</div>\n</div>\n</div>\n</div>\n</div>\n</div>\n</div>\n</div>\n</div>\n</div>\n</div>\n</div>\n
LOCATION:Athletic Field L-AF on the UW-Platteville | Baraboo/Sauk County Campus
UID:e.1184.22223
SEQUENCE:3
DTSTAMP:20260423T200100Z
URL:http://members.saukprairie.com/events/details/50th-annual-codger-brat-game-22223
END:VEVENT

END:VCALENDAR
