BEGIN:VCALENDAR
VERSION:2.0
PRODID:-//ChamberMaster//Event Calendar 2.0//EN
METHOD:PUBLISH
X-PUBLISHED-TTL:P3D
REFRESH-INTERVAL:P3D
CALSCALE:GREGORIAN
BEGIN:VEVENT
DTSTART:20200314T120000Z
DTEND:20200314T170000Z
X-MICROSOFT-CDO-ALLDAYEVENT:FALSE
SUMMARY:5th Anniversary Celebration
DESCRIPTION:Join us in celebrating 5 Years with FREE classes and a sale!\n\n7:00-8:00 am: FREE Prairie Fire Flow with Brian\n\n8:15-9:15 am: FREE Power Flow with Brian\n\n9:30-10:30 am: FREE Fusion HIIT with Tami\n\n10:45-11:45 am: FREE Flow & Yin with Mike\n\n\n\nClass Pack Sale\n\n5 Class Pack for $60\n\n15 Class Pack for $165\n\n25 Class Pack for $250\n\nAvailable 3/11-3/18 In Studio & Online
X-ALT-DESC;FMTTYPE=text/html:<strong>Join us in celebrating 5 Years with FREE classes and a sale!</strong><br />\n<span style="background-color:#fafafa">7:00-8:00 am: FREE Prairie Fire Flow with Brian</span><br />\n<span style="background-color:#fafafa">8:15-9:15 am: FREE Power Flow with Brian</span><br />\n<span style="background-color:#fafafa">9:30-10:30 am: FREE Fusion HIIT with Tami</span><br />\n<span style="background-color:#fafafa">10:45-11:45 am: FREE Flow &amp\; Yin with Mike</span><br />\n<br />\n<strong>Class Pack Sale</strong><br />\n<span style="color:#000000">5 Class Pack for $60<br />\n15 Class Pack for $165<br />\n25 Class Pack for $250</span><br />\nAvailable 3/11-3/18 In Studio &amp\; Online<br />\n<br />\n&nbsp\;<br />\n&nbsp\;
LOCATION:
UID:e.1184.24147
SEQUENCE:3
DTSTAMP:20260423T024956Z
URL:http://members.saukprairie.com/events/details/5th-anniversary-celebration-24147
END:VEVENT

END:VCALENDAR
