BEGIN:VCALENDAR
VERSION:2.0
PRODID:-//ChamberMaster//Event Calendar 2.0//EN
METHOD:PUBLISH
X-PUBLISHED-TTL:P3D
REFRESH-INTERVAL:P3D
CALSCALE:GREGORIAN
BEGIN:VEVENT
DTSTART:20220804T150000Z
DTEND:20220804T190000Z
X-MICROSOFT-CDO-ALLDAYEVENT:FALSE
SUMMARY:6:8 Brat Stand at WCCU Credit Union
DESCRIPTION:6:8 has partnered with WCCU Credit Union in Prairie du Sac to establish a parachute fund\, which is a low interest loan secured by a 6:8 donor-funded collateral pool.  Proceeds from the brat stand will contribute to the parachute fund! \n\n \nMenu: \n\nBrat - $4\n\nHot Dog - $2\n\nSoda/Water - $2\n\nChips - $1\n\nDessert - $1\n\nHot Dog Meal* - $6\n\nBrat Meal* - $8\n\n* meals include brat/hot dog\, chips\, drink\, and dessert\n\n \n\nThank you for supporting our efforts to reduce poverty in Sauk Prairie!
X-ALT-DESC;FMTTYPE=text/html:<span style="color:rgb(34\, 34\, 34)\; font-family:arial\,helvetica\,sans-serif\; font-size:small">6:8 has partnered with WCCU Credit Union in Prairie du Sac to establish a parachute fund\, which is a low interest loan secured by a 6:8 donor-funded collateral pool.&nbsp\; Proceeds from the brat stand will contribute to the parachute fund!&nbsp\;</span><br />\n&nbsp\;\n<div><strong>Menu:&nbsp\;</strong></div>\n\n<div>Brat - $4</div>\n\n<div>Hot Dog - $2</div>\n\n<div>Soda/Water - $2</div>\n\n<div>Chips - $1</div>\n\n<div>Dessert - $1</div>\n\n<div>Hot Dog Meal* - $6</div>\n\n<div>Brat Meal* - $8</div>\n\n<div>* meals include brat/hot dog\, chips\, drink\, and dessert</div>\n\n<div>&nbsp\;</div>\n\n<div>Thank you for supporting our efforts to reduce poverty in Sauk Prairie!</div>\n
LOCATION:WCCU Credit Union 1170 Prairie St\, Prairie du Sac\, WI 53578
UID:e.1184.28229
SEQUENCE:3
DTSTAMP:20260421T073811Z
URL:http://members.saukprairie.com/events/details/6-8-brat-stand-at-wccu-credit-union-28229
END:VEVENT

END:VCALENDAR
