BEGIN:VCALENDAR
VERSION:2.0
PRODID:-//ChamberMaster//Event Calendar 2.0//EN
METHOD:PUBLISH
X-PUBLISHED-TTL:P3D
REFRESH-INTERVAL:P3D
CALSCALE:GREGORIAN
BEGIN:VEVENT
DTSTART:20240826T220000Z
DTEND:20240827T003000Z
X-MICROSOFT-CDO-ALLDAYEVENT:FALSE
SUMMARY:6:8 Circles Sauk Prairie Come & See Night
DESCRIPTION:Ever wonder what Circles is all about? Have you be involved in the past and are looking to dive back in? Join us for dinner and some info as you 'Come & See' Circles on Monday\, August 26. We'll have dinner for you and childcare for your kids if needed - just RSVP that you're coming.\n\n \n\nCome learn about volunteering\, becoming a Circle Leader\, or an Ally.\n\n \n\nCircles equips and inspires families by matching one highly motivated low-income person or family (called a Circle Leader   one who is leading her/his own life out of poverty) with two middle- to upper-middle class community volunteers (called Allies   persons who commit to friendship\, companionship\, and support on the journey out of poverty). Circle Leaders are trained\, supported\, and held accountable to build financial\, emotional\, and social resources\, and to expand their social capital. During an initial 12 weeks of foundational training\, each Circle Leader creates a personal Economic Stability Plan that defines SMART goals unique to their own needs and dreams. The Plan maps the way forward through the 18-month commitment to weekly Circles meetings for learning\, support\, and accountability. Circle Allies are trained\, supported\, and held accountable to learn the hidden rules of class\, to assist the Circle Leader in expanding their social capital\, and how to help without hurting\, rescuing\, or enabling.\n\n\n\nDinner and Childcare Provided with RSVP.\n\n\n\nRSVP by calling/texting: 608-561-8467 or emailing: 68@MakingServicePersonal.org with the number of people eating\, and ages/names of children who will need childcare.
X-ALT-DESC;FMTTYPE=text/html:<div>Ever wonder what Circles is all about? Have you be involved in the past and are looking to dive back in? Join us for dinner and some info as you &lsquo\;Come &amp\; See&rsquo\; Circles on Monday\, August 26. We&rsquo\;ll have dinner for you and childcare for your kids if needed - just RSVP that you&rsquo\;re coming.<br />\n&nbsp\;</div>\n\n<div><strong>Come learn about volunteering\, becoming a Circle Leader\, or an Ally.</strong><br />\n&nbsp\;</div>\n\n<div>Circles equips and inspires families by matching one highly motivated low-income person or family (called a Circle Leader &ndash\; one who is leading her/his own life out of poverty) with two middle- to upper-middle class community volunteers (called Allies &ndash\; persons who commit to friendship\, companionship\, and support on the journey out of poverty). Circle Leaders are trained\, supported\, and held accountable to build financial\, emotional\, and social resources\, and to expand their social capital. During an initial 12 weeks of foundational training\, each Circle Leader creates a personal Economic Stability Plan that defines SMART goals unique to their own needs and dreams. The Plan maps the way forward through the 18-month commitment to weekly Circles meetings for learning\, support\, and accountability. Circle Allies are trained\, supported\, and held accountable to learn the hidden rules of class\, to assist the Circle Leader in expanding their social capital\, and how to help without hurting\, rescuing\, or enabling.</div>\n\n<div><br />\nDinner and Childcare Provided with RSVP.<br />\n<br />\n<strong>RSVP</strong> by calling/texting: 608-561-8467 or emailing: 68@MakingServicePersonal.org with the number of people eating\, and ages/names of children who will need childcare.</div>\n
LOCATION:6:8
UID:e.1184.32905
SEQUENCE:3
DTSTAMP:20260419T162357Z
URL:http://members.saukprairie.com/events/details/6-8-circles-sauk-prairie-come-see-night-32905
END:VEVENT

END:VCALENDAR
