BEGIN:VCALENDAR
VERSION:2.0
PRODID:-//ChamberMaster//Event Calendar 2.0//EN
METHOD:PUBLISH
X-PUBLISHED-TTL:P3D
REFRESH-INTERVAL:P3D
CALSCALE:GREGORIAN
BEGIN:VEVENT
DTSTART:20220727T130000Z
DTEND:20220730T170000Z
X-MICROSOFT-CDO-ALLDAYEVENT:FALSE
SUMMARY:6:8 Clothing Swap - Adult and Child 4T and Up
DESCRIPTION:Come join us for our Adult and Child Clothing Swap!\n\nDonate your clothing and/or come get some new threads.\n\nDonations will NOT be accepted until Wednesday\, July 27th.\n\nSize 4T and up!\n\n \n\nFor more information or to see FAQ's\, please visit https://bit.ly/ClothingSwapFAQ\n\nDrop off ONLY: Wed\, July 27th 9am-3pm\n\nDrop off and Shopping:\n\nThurs\, July 28th\, 1pm-7pm\n\nFri\, July 29th\, 8am-12pm\n\nSHOPPING ONLY (NO DROP OFFS):\n\nSat\, July 30th 8am-12pm\n\nTo volunteer\, sign up here:\n\nhttps://signup.com/go/fdwewnF
X-ALT-DESC;FMTTYPE=text/html:<div>Come join us for our Adult and Child Clothing Swap!<br />\nDonate your clothing and/or come get some new threads.<br />\nDonations will NOT be accepted until Wednesday\, July 27th.<br />\nSize 4T and up!</div>\n\n<div>&nbsp\;</div>\n\n<div>For more information or to see FAQ&#39\;s\, please visit&nbsp\;<a class="oajrlxb2 g5ia77u1 qu0x051f esr5mh6w e9989ue4 r7d6kgcz rq0escxv nhd2j8a9 nc684nl6 p7hjln8o kvgmc6g5 cxmmr5t8 oygrvhab hcukyx3x jb3vyjys rz4wbd8a qt6c0cv9 a8nywdso i1ao9s8h esuyzwwr f1sip0of lzcic4wl gpro0wi8 py34i1dx" href="https://l.facebook.com/l.php?u=https%3A%2F%2Fbit.ly%2FClothingSwapFAQ%3Ffbclid%3DIwAR0Vii5483dUo9TQihFVV4VfsDLZtWN3EN_Z9ut1i161pymMM4XbEUBrghU&amp\;h=AT3hcy2ffRt02o5DgBTuqWAWih39bw5GZ3WXt1h6d49bMJ7J0lfGZF6pZO1ftSgSA21OfqUh5auA2HT082niyVbVJzBS5cbbgwNVNeLUur3FLMu4yaEULXYDJmhHGfc6x9no&amp\;__tn__=q&amp\;c[0]=AT1TWVAYbzoBmjOa60l46uTs8F1GvZJJVRWUv5t8DxM_FFkSAhdZqZQvvrKa3RTCa7NwCPxyBOIRGNQ8xntIUOglWUjg8uaGZuzFW0EaCU6q-7ILZ9y0ZXzb2Ww9HiPgQffQUo4gDSMTqb-z0Sx_nEnw" rel="nofollow noopener" style="cursor: pointer\; text-decoration-line: none\; outline: none\; list-style: none\; border-width: 0px\; border-style: initial\; border-color: initial\; padding: 0px\; margin: 0px\; touch-action: manipulation\; background-color: transparent\; text-align: inherit\; display: inline\; -webkit-tap-highlight-color: transparent\; box-sizing: border-box\; font-family: inherit\;" tabindex="0" target="_blank">https://bit.ly/ClothingSwapFAQ</a></div>\n\n<div>Drop off ONLY: Wed\, July 27th 9am-3pm<br />\nDrop off and Shopping:<br />\nThurs\, July 28th\, 1pm-7pm<br />\nFri\, July 29th\, 8am-12pm<br />\nSHOPPING ONLY (NO DROP OFFS):<br />\nSat\, July 30th 8am-12pm</div>\n\n<div>To volunteer\, sign up here:<br />\n<a class="oajrlxb2 g5ia77u1 qu0x051f esr5mh6w e9989ue4 r7d6kgcz rq0escxv nhd2j8a9 nc684nl6 p7hjln8o kvgmc6g5 cxmmr5t8 oygrvhab hcukyx3x jb3vyjys rz4wbd8a qt6c0cv9 a8nywdso i1ao9s8h esuyzwwr f1sip0of lzcic4wl gpro0wi8 py34i1dx" href="https://signup.com/go/fdwewnF?fbclid=IwAR208VvduR73byZfqUwxcSOgn1wsbPnBvI7bcGIczQ6rLeGkd25vUCoFs_A" rel="nofollow noopener" style="cursor: pointer\; text-decoration-line: none\; outline: none\; list-style: none\; border-width: 0px\; border-style: initial\; border-color: initial\; padding: 0px\; margin: 0px\; touch-action: manipulation\; background-color: transparent\; text-align: inherit\; display: inline\; -webkit-tap-highlight-color: transparent\; box-sizing: border-box\; font-family: inherit\;" tabindex="0" target="_blank">https://signup.com/go/fdwewnF</a></div>\n
LOCATION:6:8 821 Industry Rd\, Sauk City\, WI 53583
UID:e.1184.27933
SEQUENCE:3
DTSTAMP:20260421T104257Z
URL:http://members.saukprairie.com/events/details/6-8-clothing-swap-adult-and-child-4t-and-up-27933
END:VEVENT

END:VCALENDAR
