BEGIN:VCALENDAR
VERSION:2.0
PRODID:-//ChamberMaster//Event Calendar 2.0//EN
METHOD:PUBLISH
X-PUBLISHED-TTL:P3D
REFRESH-INTERVAL:P3D
CALSCALE:GREGORIAN
BEGIN:VEVENT
DTSTART:20201021T140000Z
DTEND:20201024T170000Z
X-MICROSOFT-CDO-ALLDAYEVENT:FALSE
SUMMARY:6:8 Clothing Swap - Winter Outer Gear (All Sizes) & Baby Clothes (Newborn-4T)
DESCRIPTION:Come join us for our Winter Outer Gear (All Sizes)! \n\nDonate your clothing and/or come get some new threads.\n\nDonations will NOT be accepted until Wednesday\, October 21st. \n\n\n\nFor more information or to see FAQ's\, please visit https://bit.ly/ClothingSwapFAQ\n\n\n\nDrop off ONLY: Wed\, Oct 21 9am-3pm \n\nDrop off and Shopping:\n\nThurs\, Oct 22\, 4pm-7pm \n\nFri\, Oct 23\, 9am-12pm \n\nShopping Only: Sat\, Oct 24 9am-12pm\n\n\n\nTo volunteer\, sign up here: https://signup.com/go/pJuqxmz
X-ALT-DESC;FMTTYPE=text/html:<span style="color:rgb(29\, 33\, 41)\; font-family:helvetica\,arial\,sans-serif\; font-size:14px">Come join us for our Winter Outer Gear (All Sizes)! </span><br />\n<span style="color:rgb(29\, 33\, 41)\; font-family:helvetica\,arial\,sans-serif\; font-size:14px">Donate your clothing and/or come get some new threads.</span><br />\n<span style="color:rgb(29\, 33\, 41)\; font-family:helvetica\,arial\,sans-serif\; font-size:14px">Donations will NOT be accepted until Wednesday\, October 21st. </span><br />\n<br />\n<span style="color:rgb(29\, 33\, 41)\; font-family:helvetica\,arial\,sans-serif\; font-size:14px">For more information or to see FAQ&#39\;s\, please visit </span><a href="https://bit.ly/ClothingSwapFAQ?fbclid=IwAR3nnL6mHcJy35xkTl_JvnQYbcNlzJcpFTptzWRt2jh-NRZyYijlN0qZoTg" rel="nofollow noopener" style="color: rgb(56\, 88\, 152)\; cursor: pointer\; text-decoration-line: none\; font-family: Helvetica\, Arial\, sans-serif\; font-size: 14px\; white-space: pre-wrap\;" target="_blank">https://bit.ly/ClothingSwapFAQ</a><br />\n<br />\n<span style="color:rgb(29\, 33\, 41)\; font-family:helvetica\,arial\,sans-serif\; font-size:14px">Drop off ONLY: Wed\, Oct 21 9am-3pm </span><br />\n<span style="color:rgb(29\, 33\, 41)\; font-family:helvetica\,arial\,sans-serif\; font-size:14px">Drop off and Shopping:</span><br />\n<span style="color:rgb(29\, 33\, 41)\; font-family:helvetica\,arial\,sans-serif\; font-size:14px">Thurs\, Oct 22\, 4pm-7pm </span><br />\n<span style="color:rgb(29\, 33\, 41)\; font-family:helvetica\,arial\,sans-serif\; font-size:14px">Fri\, Oct 23\, 9am-12pm </span><br />\n<span style="color:rgb(29\, 33\, 41)\; font-family:helvetica\,arial\,sans-serif\; font-size:14px">Shopping Only: Sat\, Oct 24 9am-12pm</span><br />\n<br />\n<span style="color:rgb(29\, 33\, 41)\; font-family:helvetica\,arial\,sans-serif\; font-size:14px">To volunteer\, sign up here: </span><a href="https://signup.com/go/pJuqxmz?fbclid=IwAR2ZNLkt1NDvVBTb1zeF6I4-ewSTyVkqQoQ5gmi6qZxqkNVjN0AtHMnZtoY" rel="nofollow noopener" style="color: rgb(56\, 88\, 152)\; cursor: pointer\; text-decoration-line: none\; font-family: Helvetica\, Arial\, sans-serif\; font-size: 14px\; white-space: pre-wrap\;" target="_blank">https://signup.com/go/pJuqxmz</a>
LOCATION:821 Industry Rd Sauk City\, WI\, 53583
UID:e.1184.26074
SEQUENCE:3
DTSTAMP:20260422T152125Z
URL:http://members.saukprairie.com/events/details/6-8-clothing-swap-winter-outer-gear-all-sizes-26074
END:VEVENT

END:VCALENDAR
