BEGIN:VCALENDAR
VERSION:2.0
PRODID:-//ChamberMaster//Event Calendar 2.0//EN
METHOD:PUBLISH
X-PUBLISHED-TTL:P3D
REFRESH-INTERVAL:P3D
CALSCALE:GREGORIAN
BEGIN:VEVENT
DTSTART:20241112T143000Z
DTEND:20241112T173000Z
X-MICROSOFT-CDO-ALLDAYEVENT:FALSE
SUMMARY:6:8 Interactive Poverty Experience
DESCRIPTION:Poverty is a reality for many individuals and families in Sauk County. But unless you've experienced poverty\, it's difficult to truly understand.\n\n\n\nThe Interactive Poverty Experience helps bridge the gap from misconception to understanding by exposing you to the realities of poverty.\n\n \n\nOver the course of the IP Experience\, you will take on the identity of a real person living in poverty. You will role-play living a month in poverty trying to maintain your basic needs.\n\n\n\nAt the conclusion of the role-play\, you are invited to discuss their experience and what they learned. Everyone leaves with a challenge to discover what their next steps will be toward being a part of the poverty solution.\n\n\n\nIP Experience Details:\n\nTuesday\, November 12\n\n8:30-11:30am \n\n(Come as an individual\, group\, or bring your employees/team) - FREE to attend\n\n\n\nLimited to 50 participants/session. IP Experience is for ages 14+\n\n \n\nFunding for Our Interactive Poverty Experience is made possible by a generous grant Darlene Ballweg Fund at Community Foundation of South Central Wisconsin\n\n\n\nRegister here TODAY: https://www.makingservicepersonal.org/progr.../ip-experience
X-ALT-DESC;FMTTYPE=text/html:<div><span style="font-size:14px"><strong><span style="color:#A52A2A">Poverty is a reality for many individuals and families in Sauk County. But unless you&rsquo\;ve experienced poverty\, it&rsquo\;s difficult to truly understand.</span></strong></span></div>\n\n<div><br />\n<span style="font-size:14px">The Interactive Poverty Experience helps bridge the gap from misconception to understanding by exposing you to the realities of poverty.</span><br />\n&nbsp\;</div>\n\n<div><span style="font-size:14px">Over the course of the IP Experience\, you will take on the identity of a real person living in poverty. You will role-play living a month in poverty trying to maintain your basic needs.</span></div>\n\n<div><br />\n<span style="font-size:14px">At the conclusion of the role-play\, you are invited to discuss their experience and what they learned. Everyone leaves with a challenge to discover what their next steps will be toward being a part of the poverty solution.</span></div>\n\n<div><br />\n<strong>IP Experience Details:</strong><br />\nTuesday\, November 12<br />\n8:30-11:30am&nbsp\;<br />\n(<span style="background-color:#FFFF00">Come as an individual\, group\, or bring your employees/team) -&nbsp\;FREE to attend</span></div>\n\n<div><br />\nLimited to 50 participants/session. IP Experience is for ages 14+<br />\n&nbsp\;</div>\n\n<div>Funding for Our Interactive Poverty Experience is made possible by a generous grant Darlene Ballweg Fund at Community Foundation of South Central Wisconsin</div>\n\n<div><br />\nRegister here TODAY:&nbsp\;<a class="x1i10hfl xjbqb8w x1ejq31n xd10rxx x1sy0etr x17r0tee x972fbf xcfux6l x1qhh985 xm0m39n x9f619 x1ypdohk xt0psk2 xe8uvvx xdj266r x11i5rnm xat24cr x1mh8g0r xexx8yu x4uap5 x18d9i69 xkhd6sd x16tdsg8 x1hl2dhg xggy1nq x1a2a7pz x1sur9pj xkrqix3 x1fey0fg x1s688f" href="https://www.makingservicepersonal.org/programs-services/ip-experience?fbclid=IwZXh0bgNhZW0CMTAAAR1Zfs_rfpekRIJTzp7WlZWfAAOnpaa_cfRzBeEpiVs9vQPL7mSOROcXTCM_aem_y79yCjiRiZRg2X66v4IPGg" rel="nofollow noreferrer" style="color: var(--blue-link)\; cursor: pointer\; text-decoration-line: none\; list-style: none\; margin: 0px\; text-align: inherit\; border-style: none\; padding: 0px\; box-sizing: border-box\; border-width: 0px\; outline: none\; -webkit-tap-highlight-color: transparent\; font-weight: 600\; touch-action: manipulation\; background-color: transparent\; display: inline\; font-family: inherit\;" tabindex="0" target="_blank">https://www.makingservicepersonal.org/progr.../ip-experience</a>&nbsp\;</div>\n
LOCATION:6:8\, Inc
UID:e.1184.34376
SEQUENCE:3
DTSTAMP:20260419T130600Z
URL:http://members.saukprairie.com/events/details/6-8-interactive-poverty-experience-34376
END:VEVENT

END:VCALENDAR
