BEGIN:VCALENDAR
VERSION:2.0
PRODID:-//ChamberMaster//Event Calendar 2.0//EN
METHOD:PUBLISH
X-PUBLISHED-TTL:P3D
REFRESH-INTERVAL:P3D
CALSCALE:GREGORIAN
BEGIN:VEVENT
DTSTART:20240519T160000Z
DTEND:20240519T200000Z
X-MICROSOFT-CDO-ALLDAYEVENT:FALSE
SUMMARY:6:8 Pop A Shot Fundraiser
DESCRIPTION:GRAVITY WAGON BASKETBALL TOURNAMENT\n\nWhen: Sunday\, May 19\, 2024 -- 11AM - 3PM\n\nLocation: St. Al's Grounds (115 Madison St.\, Sauk City\, WI 53583)\n\nProceeds support the 6:8 Sycamore Community Youth Center\n\nEvent Highlights: \n\n\n	\n	Compete in a solo tournament or in teams of 5! Most baskets made within a time limit wins!!\n	\n	\n	Enjoy beverages\, hotdogs\, brats\, popcorn\, & cotton candy!\n	\n	\n	Fun for all ages! Compete in different yard games like corn hole & Spikeball.\n	\n	\n	Jump into the fun with bounce houses and 30FT obstacle course. \n	\n\n \n\nCash Prizes: \n\n**Winner takes 50% of the prize pool!!!**\n \n\nRegistration Details: \n\n\n	\n	Solo Tournament - $5 Entry\n	\n	\n	Team Tournament - $25 Entry\n	\n	\n	Corporate Tournament - $100 (Gets logo on the wagon. *No cash prize\, with traveling trophy)
X-ALT-DESC;FMTTYPE=text/html:<p dir="ltr">GRAVITY WAGON BASKETBALL TOURNAMENT</p>\n\n<p dir="ltr">When:&nbsp\;Sunday\, May 19\, 2024 -- 11AM - 3PM</p>\n\n<p dir="ltr">Location:&nbsp\;St. Al&#39\;s Grounds (115 Madison St.\, Sauk City\, WI 53583)</p>\n\n<p dir="ltr">Proceeds support the 6:8&nbsp\;<a href="https://www.makingservicepersonal.org/sycamore-community">Sycamore Community&nbsp\;</a>Youth Center</p>\n\n<p dir="ltr">Event Highlights:&nbsp\;</p>\n\n<ul>\n	<li dir="ltr">\n	<p dir="ltr" role="presentation">Compete in a solo tournament or in teams of&nbsp\;5! Most baskets made within a time limit wins!!</p>\n	</li>\n	<li dir="ltr">\n	<p dir="ltr" role="presentation">Enjoy beverages\, hotdogs\, brats\, popcorn\, &amp\; cotton candy!</p>\n	</li>\n	<li dir="ltr">\n	<p dir="ltr" role="presentation">Fun for all ages! Compete in different yard games like corn hole &amp\; Spikeball.</p>\n	</li>\n	<li dir="ltr">\n	<p dir="ltr" role="presentation">Jump into the fun with bounce houses and 30FT obstacle course.&nbsp\;</p>\n	</li>\n</ul>\n&nbsp\;\n\n<p dir="ltr">Cash Prizes:&nbsp\;</p>\n\n<p dir="ltr">**Winner takes 50% of the prize pool!!!**</p>\n&nbsp\;\n\n<p dir="ltr">Registration Details:&nbsp\;</p>\n\n<ul>\n	<li dir="ltr">\n	<p dir="ltr" role="presentation">Solo Tournament - $5 Entry</p>\n	</li>\n	<li dir="ltr">\n	<p dir="ltr" role="presentation">Team Tournament - $25 Entry</p>\n	</li>\n	<li dir="ltr">\n	<p dir="ltr" role="presentation">Corporate Tournament - $100 (Gets logo on the wagon. *No cash prize\, with traveling trophy)</p>\n	</li>\n</ul>\n
LOCATION:St. Al's Grounds
UID:e.1184.32339
SEQUENCE:3
DTSTAMP:20260419T204820Z
URL:http://members.saukprairie.com/events/details/6-8-pop-a-shot-fundraiser-32339
END:VEVENT

END:VCALENDAR
