BEGIN:VCALENDAR
VERSION:2.0
PRODID:-//ChamberMaster//Event Calendar 2.0//EN
METHOD:PUBLISH
X-PUBLISHED-TTL:P3D
REFRESH-INTERVAL:P3D
CALSCALE:GREGORIAN
BEGIN:VEVENT
DTSTART:20220608T233000Z
DTEND:20220609T010000Z
X-MICROSOFT-CDO-ALLDAYEVENT:FALSE
SUMMARY:6:8's 12th Birthday Celebration
DESCRIPTION:6:8 is turning 12! Come join us for desserts\, conversations\, and (weather permitting!) some outdoor fun as we celebrate 12 wonderful years of serving the Sauk Prairie Community!
X-ALT-DESC;FMTTYPE=text/html:<span style="color:rgb(5\, 5\, 5)\; font-family:segoe ui historic\,segoe ui\,helvetica\,arial\,sans-serif\; font-size:15px">6:8 is turning 12! Come join us for desserts\, conversations\, and (weather permitting!) some outdoor fun as we celebrate 12 wonderful years of serving the Sauk Prairie Community!</span>
LOCATION:821 Industry Rd Sauk City\, WI 53583
UID:e.1184.27667
SEQUENCE:3
DTSTAMP:20260421T115845Z
URL:http://members.saukprairie.com/events/details/6-8-s-12th-birthday-celebration-27667
END:VEVENT

END:VCALENDAR
