BEGIN:VCALENDAR
VERSION:2.0
PRODID:-//ChamberMaster//Event Calendar 2.0//EN
METHOD:PUBLISH
X-PUBLISHED-TTL:P3D
REFRESH-INTERVAL:P3D
CALSCALE:GREGORIAN
BEGIN:VEVENT
DTSTART:20210804T140000Z
DTEND:20210807T170000Z
X-MICROSOFT-CDO-ALLDAYEVENT:FALSE
SUMMARY:6:8's Clothing Swap - Adult & Child Clothing (4T & UP!)
DESCRIPTION:Come join us for our Adult and Child Clothing Swap!\n\nDonate your clothing and/or come get some new threads.\n\nDonations will NOT be accepted until Wednesday\, August 4th.\n\nSize 4T and up!\n\n**Masks WILL be required! Thank you for your cooperation!**\n\nFor more information or to see FAQ's\, please visit https://bit.ly/ClothingSwapFAQ\n\nDrop off ONLY: Wed\, Aug 4th 9am-3pm\n\nDrop off and Shopping:\n\nThurs\, Aug 5th\, 4pm-7pm\n\nFri\, Aug 6th\, 9am-12pm\n\nSHOPPING ONLY (NO DROP OFFS):\n\nSat\, Aug 7th 9am-12pm\n\nTo volunteer\, sign up here: https://signup.com/go/SYQmLPJ
X-ALT-DESC;FMTTYPE=text/html:<div>Come join us for our Adult and Child Clothing Swap!<br />\nDonate your clothing and/or come get some new threads.<br />\nDonations will NOT be accepted until Wednesday\, August 4th.<br />\nSize 4T and up!<br />\n**Masks WILL be required! Thank you for your cooperation!**</div>\n\n<div>For more information or to see FAQ&#39\;s\, please visit&nbsp\;<a class="oajrlxb2 g5ia77u1 qu0x051f esr5mh6w e9989ue4 r7d6kgcz rq0escxv nhd2j8a9 nc684nl6 p7hjln8o kvgmc6g5 cxmmr5t8 oygrvhab hcukyx3x jb3vyjys rz4wbd8a qt6c0cv9 a8nywdso i1ao9s8h esuyzwwr f1sip0of lzcic4wl py34i1dx gpro0wi8" href="https://bit.ly/ClothingSwapFAQ?fbclid=IwAR29aBrQJX-He2Q5Ki43RcUtU9EV6Af32zG35NG7ElbqZTjO-4SfNiO0WG4" rel="nofollow noopener" style="color: var(--blue-link)\; cursor: pointer\; text-decoration-line: none\; outline: none\; list-style: none\; border-width: 0px\; border-style: initial\; border-color: initial\; padding: 0px\; margin: 0px\; touch-action: manipulation\; background-color: transparent\; text-align: inherit\; display: inline\; -webkit-tap-highlight-color: transparent\; box-sizing: border-box\; font-family: inherit\;" tabindex="0" target="_blank">https://bit.ly/ClothingSwapFAQ</a></div>\n\n<div>Drop off ONLY: Wed\, Aug 4th 9am-3pm<br />\nDrop off and Shopping:<br />\nThurs\, Aug 5th\, 4pm-7pm<br />\nFri\, Aug 6th\, 9am-12pm<br />\nSHOPPING ONLY (NO DROP OFFS):<br />\nSat\, Aug 7th 9am-12pm</div>\n\n<div>To volunteer\, sign up here:&nbsp\;<a class="oajrlxb2 g5ia77u1 qu0x051f esr5mh6w e9989ue4 r7d6kgcz rq0escxv nhd2j8a9 nc684nl6 p7hjln8o kvgmc6g5 cxmmr5t8 oygrvhab hcukyx3x jb3vyjys rz4wbd8a qt6c0cv9 a8nywdso i1ao9s8h esuyzwwr f1sip0of lzcic4wl py34i1dx gpro0wi8" href="https://signup.com/go/SYQmLPJ?fbclid=IwAR2gFvTyD0CnIVjucrR5lo4F1V-w-4ibm3cRs2SEfPc6th47AqUYay7xMLQ" rel="nofollow noopener" style="color: var(--blue-link)\; cursor: pointer\; text-decoration-line: none\; outline: none\; list-style: none\; border-width: 0px\; border-style: initial\; border-color: initial\; padding: 0px\; margin: 0px\; touch-action: manipulation\; background-color: transparent\; text-align: inherit\; display: inline\; -webkit-tap-highlight-color: transparent\; box-sizing: border-box\; font-family: inherit\;" tabindex="0" target="_blank">https://signup.com/go/SYQmLPJ</a></div>\n
LOCATION:821 Industry Rd\, Sauk City\, WI 53583
UID:e.1184.26627
SEQUENCE:3
DTSTAMP:20260422T005142Z
URL:http://members.saukprairie.com/events/details/6-8-s-clothing-swap-adult-child-clothing-4t-up-26627
END:VEVENT

END:VCALENDAR
