BEGIN:VCALENDAR
VERSION:2.0
PRODID:-//ChamberMaster//Event Calendar 2.0//EN
METHOD:PUBLISH
X-PUBLISHED-TTL:P3D
REFRESH-INTERVAL:P3D
CALSCALE:GREGORIAN
BEGIN:VEVENT
DTSTART:20200805T140000Z
DTEND:20200808T170000Z
X-MICROSOFT-CDO-ALLDAYEVENT:FALSE
SUMMARY:6:8's Clothing Swap - Adult and Child
DESCRIPTION:Come join us for our Adult and Child Clothing Swap! \n\nDonate your clothing and/or come get some new threads.\n\nSizes 4T and up. \n\n\n\n**Masks WILL be required. Thank you for your cooperation!**\n\n\n\nFor more information or to see FAQ's\, please visit https://bit.ly/ClothingSwapFAQ\n\n\n\nDrop off ONLY: Wed\, Aug 5th 9am-3pm \n\nDrop off and Shopping:\n\nThurs\, Aug 6th\, 4pm-7pm \n\nFri\, Aug 7th\, 9am-12pm \n\nSat\, Aug 8th 9am-12pm\n\n\n\nTo volunteer\, sign up here: https://signup.com/go/pJuqxmz
X-ALT-DESC;FMTTYPE=text/html:<span style="color:rgb(29\, 33\, 41)\; font-family:helvetica\,arial\,sans-serif\; font-size:14px">Come join us for our Adult and Child Clothing Swap! </span><br />\n<span style="color:rgb(29\, 33\, 41)\; font-family:helvetica\,arial\,sans-serif\; font-size:14px">Donate your clothing and/or come get some new threads.<br />\nSizes 4T and up.&nbsp\;<br />\n<br />\n**Masks WILL be required. Thank you for your cooperation!**</span><br />\n<br />\n<span style="color:rgb(29\, 33\, 41)\; font-family:helvetica\,arial\,sans-serif\; font-size:14px">For more information or to see FAQ&#39\;s\, please visit </span><a href="https://bit.ly/ClothingSwapFAQ?fbclid=IwAR3WiPjgc9UO1WjrfnD3Dc6tyJaNy4rk9bxRNG8-5M5YeFvEYAS6NevnCIc" rel="nofollow noopener" style="color: rgb(56\, 88\, 152)\; cursor: pointer\; text-decoration-line: none\; font-family: Helvetica\, Arial\, sans-serif\; font-size: 14px\; white-space: pre-wrap\;" target="_blank">https://bit.ly/ClothingSwapFAQ</a><br />\n<br />\n<span style="color:rgb(29\, 33\, 41)\; font-family:helvetica\,arial\,sans-serif\; font-size:14px"><strong>Drop off ONLY</strong>: Wed\, Aug 5th 9am-3pm </span><br />\n<span style="color:rgb(29\, 33\, 41)\; font-family:helvetica\,arial\,sans-serif\; font-size:14px"><strong>Drop off and Shopping</strong>:</span><br />\n<span style="color:rgb(29\, 33\, 41)\; font-family:helvetica\,arial\,sans-serif\; font-size:14px">Thurs\, Aug 6th\, 4pm-7pm </span><br />\n<span style="color:rgb(29\, 33\, 41)\; font-family:helvetica\,arial\,sans-serif\; font-size:14px">Fri\, Aug 7th\, 9am-12pm </span><br />\n<span style="color:rgb(29\, 33\, 41)\; font-family:helvetica\,arial\,sans-serif\; font-size:14px">Sat\, Aug 8th 9am-12pm</span><br />\n<br />\n<em><span style="color:rgb(29\, 33\, 41)\; font-family:helvetica\,arial\,sans-serif\; font-size:14px">To volunteer\, sign up here: </span><a href="https://signup.com/go/pJuqxmz?fbclid=IwAR3L5W2bVlhei5pUm_WU2AEca1_SoI8mX_6HjDgj7GRcOMrLXtro-XTaros" rel="nofollow noopener" style="color: rgb(56\, 88\, 152)\; cursor: pointer\; text-decoration-line: none\; font-family: Helvetica\, Arial\, sans-serif\; font-size: 14px\; white-space: pre-wrap\;" target="_blank">https://signup.com/go/pJuqxmz</a></em>
LOCATION:6:8\, Inc 821 Industry Rd Sauk City\, WI 53583
UID:e.1184.24085
SEQUENCE:3
DTSTAMP:20260422T182918Z
URL:http://members.saukprairie.com/events/details/6-8-s-clothing-swap-adult-edition-24085
END:VEVENT

END:VCALENDAR
