BEGIN:VCALENDAR
VERSION:2.0
PRODID:-//ChamberMaster//Event Calendar 2.0//EN
METHOD:PUBLISH
X-PUBLISHED-TTL:P3D
REFRESH-INTERVAL:P3D
CALSCALE:GREGORIAN
BEGIN:VEVENT
DTSTART:20200615T130000Z
DTEND:20200615T150000Z
X-MICROSOFT-CDO-ALLDAYEVENT:FALSE
SUMMARY:6:8's Garden Days
DESCRIPTION:6:8's Garden Work Days!! May 11 Oct 28 When: Mondays & Wednesdays\, 8-10 am (excluding holidays) Where: 6:8\, Inc\, 821 Industry Rd\, Sauk City 53583 SUPERVISED CHILDREN ARE ALWAYS WELCOME! 1st time gardeners & Master Gardeners are welcome. Great opportunity to learn how to garden and grow fresh produce you an eat. Anyone helping to plant\, water\, weed\, harvest\, or care for the garden is able to receive a share of the harvest! Any questions\, please contact us: makingservicepersonal@gmail.com / 608-561-8468\n\n\n\nSign up here: https://signup.com/go/nFVjHso
X-ALT-DESC;FMTTYPE=text/html:<span style="font-family:pt sans\,sans-serif">6:8&rsquo\;s Garden Work Days!! May 11&mdash\;Oct 28 When: Mondays &amp\; Wednesdays\, 8-10 am (excluding holidays) Where: 6:8\, Inc\, 821 Industry Rd\, Sauk City 53583 SUPERVISED CHILDREN ARE ALWAYS WELCOME! 1st time gardeners &amp\; Master Gardeners are welcome. Great opportunity to learn how to garden and grow fresh produce you an eat. Anyone helping to plant\, water\, weed\, harvest\, or care for the garden is able to receive a share of the harvest! Any questions\, please contact us: makingservicepersonal@gmail.com / 608-561-8468<br />\n<br />\nSign up here:&nbsp\;</span>https://signup.com/go/nFVjHso
LOCATION:6:8 821 Industry Rd Sauk City\, WI 53583
UID:e.1184.26043
SEQUENCE:3
DTSTAMP:20260422T224947Z
URL:http://members.saukprairie.com/events/details/6-8-s-garden-days-06-15-2020-26043
END:VEVENT

END:VCALENDAR
