BEGIN:VCALENDAR
VERSION:2.0
PRODID:-//ChamberMaster//Event Calendar 2.0//EN
METHOD:PUBLISH
X-PUBLISHED-TTL:P3D
REFRESH-INTERVAL:P3D
CALSCALE:GREGORIAN
BEGIN:VEVENT
DTSTART:20230428T230000Z
DTEND:20230429T030000Z
X-MICROSOFT-CDO-ALLDAYEVENT:FALSE
SUMMARY:6:8 SPAH Night of HOPE
DESCRIPTION:Join us for a night with friends\, a date night with your partner\, or a fun solo outing! \n\nOur Night of HOPE event\, which benefits the SPAH Pack Event\, will include a Soup\, Bread & Dessert Cook Off\, as well as a Silent & Live Auction!
X-ALT-DESC;FMTTYPE=text/html:<div>Join us for a night with friends\, a date night with your partner\, or a fun solo outing!&nbsp\;</div>\n\n<div>Our Night of HOPE event\, which benefits the SPAH Pack Event\, will include a Soup\, Bread &amp\; Dessert Cook Off\, as well as a Silent &amp\; Live Auction!&nbsp\;</div>\n
LOCATION:6:8 821 Industry Rd Sauk City\, WI 53583
UID:e.1184.28792
SEQUENCE:3
DTSTAMP:20260420T144743Z
URL:http://members.saukprairie.com/events/details/6-8-spah-night-of-hope-28792
END:VEVENT

END:VCALENDAR
