BEGIN:VCALENDAR
VERSION:2.0
PRODID:-//ChamberMaster//Event Calendar 2.0//EN
METHOD:PUBLISH
X-PUBLISHED-TTL:P3D
REFRESH-INTERVAL:P3D
CALSCALE:GREGORIAN
BEGIN:VEVENT
DTSTART:20220423T140000Z
DTEND:20220423T200000Z
X-MICROSOFT-CDO-ALLDAYEVENT:FALSE
SUMMARY:6:8 Spring Clean Up Day
DESCRIPTION:Help clean the 6:8 building and grounds.  Activities will include prepping the garden\, deep cleaning the building\, washing windows and screens\, etc.  All supplies will be provided.  If you cannot stay for the entire shift\, come and leave as you need\, bring your friends!
X-ALT-DESC;FMTTYPE=text/html:<span style="color:rgb(89\, 89\, 89)\; font-family:pt sans\,sans-serif\; font-size:14px">Help clean the 6:8 building and grounds. &nbsp\;Activities will include prepping the garden\, deep cleaning the building\, washing windows and screens\, etc. &nbsp\;All supplies will be provided. &nbsp\;If you cannot stay for the entire shift\, come and leave as you need\, bring your friends!</span>
LOCATION:6:8 821 Industry Rd Sauk City\, WI 53583
UID:e.1184.27186
SEQUENCE:3
DTSTAMP:20260421T145533Z
URL:http://members.saukprairie.com/events/details/6-8-spring-clean-up-day-27186
END:VEVENT

END:VCALENDAR
