BEGIN:VCALENDAR
VERSION:2.0
PRODID:-//ChamberMaster//Event Calendar 2.0//EN
METHOD:PUBLISH
X-PUBLISHED-TTL:P3D
REFRESH-INTERVAL:P3D
CALSCALE:GREGORIAN
BEGIN:VEVENT
DTSTART:20240808T233000Z
DTEND:20240809T010000Z
X-MICROSOFT-CDO-ALLDAYEVENT:FALSE
SUMMARY:6:8 Sycamore Community Update & Listening Sessions
DESCRIPTION:6:8 desires to create a center that brings together multiple agencies and organizations to better serve the needs of our community by integrating transformational housing\, childcare\, mental health\, youth programming\, food\, job training\, and other resources on the same campus\, called the Sycamore Community. In addition\, the proposed design calls for future affordable apartments to be built for residents with a diversity of income\, age\, ability\, and household size on the Quartz property on the corner of Sycamore and Carolina in Sauk City.\n\n \n\nWe want to share updates on the project and hear your thoughts and ideas!\n\n \n\nJoin us for one of the listening sessions below:\n\n\n	Thursday\, Aug. 8 from 6:30 - 8pm (enjoy our Community Meal from 5 - 6:30pm ahead of the meeting!)\n	Tuesday\, Aug. 27 from 6:30 - 8pm\n	Monday\, Sept. 16 from 6:15 - 7:15pm\n\n\nAll listening sessions will be held at the 6:8 Building (821 Industry Rd\, Sauk City).\n\n\n\nPlease reach out if you have any questions!\n\n\n\nPhone: 608-561-8468\n\nEmail: sycamore@makingservicepersonal.org\n\nWebsite: www.makingservicepersonal.org
X-ALT-DESC;FMTTYPE=text/html:<div>6:8 desires to create a center that brings together multiple agencies and organizations to better serve the needs of our community by integrating transformational housing\, childcare\, mental health\, youth programming\, food\, job training\, and other resources on the same campus\, called the Sycamore Community. In addition\, the proposed design calls for future affordable apartments to be built for residents with a diversity of income\, age\, ability\, and household size on the Quartz property on the corner of Sycamore and Carolina in Sauk City.<br />\n&nbsp\;</div>\n\n<div><strong>We want to share updates on the project and hear your thoughts and ideas!</strong><br />\n&nbsp\;</div>\n\n<div>Join us for one of the listening sessions below:</div>\n\n<ul>\n	<li>Thursday\, Aug. 8 from 6:30 - 8pm (enjoy our Community Meal from 5 - 6:30pm ahead of the meeting!)</li>\n	<li>Tuesday\, Aug. 27 from 6:30 - 8pm</li>\n	<li>Monday\, Sept. 16 from 6:15 - 7:15pm</li>\n</ul>\n\n<div>All listening sessions will be held at the 6:8 Building (821 Industry Rd\, Sauk City).</div>\n\n<div><br />\nPlease reach out if you have any questions!</div>\n\n<div><br />\nPhone: 608-561-8468<br />\nEmail: sycamore@makingservicepersonal.org<br />\nWebsite:&nbsp\;<a class="x1i10hfl xjbqb8w x1ejq31n xd10rxx x1sy0etr x17r0tee x972fbf xcfux6l x1qhh985 xm0m39n x9f619 x1ypdohk xt0psk2 xe8uvvx xdj266r x11i5rnm xat24cr x1mh8g0r xexx8yu x4uap5 x18d9i69 xkhd6sd x16tdsg8 x1hl2dhg xggy1nq x1a2a7pz x1sur9pj xkrqix3 x1fey0fg" href="http://www.makingservicepersonal.org/?fbclid=IwZXh0bgNhZW0CMTAAAR0Tx4mdm3QNk_l0IWKmd85wZvPuUhVYwKccwjZYm-VwWTUdDrLpfrh_2fE_aem_Gc3Eux0rBUGV_Awt4xSJhw" rel="nofollow noreferrer" style="color: var(--blue-link)\; cursor: pointer\; text-decoration-line: none\; list-style: none\; margin: 0px\; text-align: inherit\; border-style: none\; padding: 0px\; box-sizing: border-box\; border-width: 0px\; outline: none\; -webkit-tap-highlight-color: transparent\; touch-action: manipulation\; background-color: transparent\; display: inline\; font-family: inherit\;" tabindex="0" target="_blank">www.makingservicepersonal.org</a>&nbsp\;</div>\n
LOCATION:821 Industry Rd\, Sauk City\, WI 53583
UID:e.1184.32899
SEQUENCE:3
DTSTAMP:20260419T175424Z
URL:http://members.saukprairie.com/events/details/6-8-sycamore-community-update-listening-sessions-32899
END:VEVENT

END:VCALENDAR
