BEGIN:VCALENDAR
VERSION:2.0
PRODID:-//ChamberMaster//Event Calendar 2.0//EN
METHOD:PUBLISH
X-PUBLISHED-TTL:P3D
REFRESH-INTERVAL:P3D
CALSCALE:GREGORIAN
BEGIN:VEVENT
DTSTART:20240710T230000Z
DTEND:20240711T010000Z
X-MICROSOFT-CDO-ALLDAYEVENT:FALSE
SUMMARY:6:8 Volunteer Enrichment: Pillars of True Charity
DESCRIPTION:To ensure our charity is truly HELPING\, we make sure it is: Authentic\, Accurate\, & Actualized.\n\n\n\nJoin us as we learn and grow together. Come watch a few short videos\, discuss how to be charitable in a way that is authentic\, and encourage each other to apply what we learn to our lives of service.\n\n\n\nWednesday\, July 10th\n\n6:00 - 8:00pm\n\nat 6:8 - 821 Industry Rd\, Sauk City\n\n\n\nSign up here to register: https://www.makingservicepersonal.org/ways-to-help/volunteer/volunteer-enrichment\n\n\n\nSubstantial snacks will be provided!
X-ALT-DESC;FMTTYPE=text/html:<div>To ensure our charity is truly HELPING\, we make sure it is: Authentic\, Accurate\, &amp\; Actualized.</div>\n\n<div><br />\nJoin us as we learn and grow together. Come watch a few short videos\, discuss how to be charitable in a way that is authentic\, and encourage each other to apply what we learn to our lives of service.</div>\n\n<div><br />\nWednesday\, July 10th<br />\n6:00 - 8:00pm</div>\n\n<div>at 6:8 - 821 Industry Rd\, Sauk City</div>\n\n<div><br />\nSign up here to register:&nbsp\;https://www.makingservicepersonal.org/ways-to-help/volunteer/volunteer-enrichment</div>\n\n<div><br />\nSubstantial snacks will be provided!&nbsp\;</div>\n
LOCATION:6:8 Building
UID:e.1184.32767
SEQUENCE:3
DTSTAMP:20260419T192432Z
URL:http://members.saukprairie.com/events/details/6-8-volunteer-enrichment-pillars-of-true-charity-32767
END:VEVENT

END:VCALENDAR
