BEGIN:VCALENDAR
VERSION:2.0
PRODID:-//ChamberMaster//Event Calendar 2.0//EN
METHOD:PUBLISH
X-PUBLISHED-TTL:P3D
REFRESH-INTERVAL:P3D
CALSCALE:GREGORIAN
BEGIN:VEVENT
DTSTART:20230919T143000Z
DTEND:20230919T160000Z
X-MICROSOFT-CDO-ALLDAYEVENT:FALSE
SUMMARY:6:8 Volunteer Orientation
DESCRIPTION:Whether you've volunteered with 6:8 in the past or are hearing of us for the first time\, we invite you to attend one of our upcoming Volunteer Orientation sessions to learn about all the amazing events and programs we have at 6:8 and what we're all about! \n\nDate: Tuesday\, Sept 19 \n\nTime: 9:30am - 11am and 6:30pm - 8pm\n\nLocation: 6:8 Building\, 821 Industry Rd\, Sauk City\, WI 53583\n\nChildcare is provided!  Register to attend Volunteer Orientation here: https://signup.com/go/VRWYjzY
X-ALT-DESC;FMTTYPE=text/html:<p><span style="font-size:16px"><strong>Whether you&#39\;ve volunteered with 6:8 in the past or are hearing of us for the first time\, we invite you to attend one of our upcoming Volunteer Orientation sessions to learn about all the amazing events and programs we have at 6:8 and what we&#39\;re all about!&nbsp\;</strong></span></p>\n\n<p><span style="font-size:14px"><strong>Date:&nbsp\;</strong><span style="color:rgb(34\, 34\, 34)\; font-family:roboto\,arial">Tuesday</span><span style="color:rgb(34\, 34\, 34)\; font-family:roboto\,arial">\, Sept 1</span><span style="color:rgb(34\, 34\, 34)\; font-family:roboto\,arial">9</span><span style="color:rgb(34\, 34\, 34)\; font-family:roboto\,arial">&nbsp\;</span></span></p>\n\n<p><span style="font-size:14px"><strong>Time:&nbsp\;</strong><span style="color:rgb(34\, 34\, 34)\; font-family:roboto\,arial">9:30am - 11am and 6:30pm - 8pm</span></span></p>\n\n<p><span style="font-size:14px"><strong>Location</strong><strong>:&nbsp\;</strong><span style="color:rgb(34\, 34\, 34)\; font-family:roboto\,arial">6:8 Building\, 821 Industry Rd\, Sauk City\, WI 53583</span></span></p>\n\n<p><span style="font-size:14px"><span style="color:rgb(34\, 34\, 34)\; font-family:roboto\,arial">Childcare is provided!&nbsp\; Register to attend Volunteer Orientation here:&nbsp\;</span></span>https://signup.com/go/VRWYjzY</p>\n
LOCATION:6:8 Building\, 821 Industry Rd\, Sauk City\, WI 53583
UID:e.1184.31026
SEQUENCE:3
DTSTAMP:20260420T073904Z
URL:http://members.saukprairie.com/events/details/6-8-volunteer-orientation-31026
END:VEVENT

END:VCALENDAR
