BEGIN:VCALENDAR
VERSION:2.0
PRODID:-//ChamberMaster//Event Calendar 2.0//EN
METHOD:PUBLISH
X-PUBLISHED-TTL:P3D
REFRESH-INTERVAL:P3D
CALSCALE:GREGORIAN
BEGIN:VEVENT
DTSTART:20220708T000000Z
DTEND:20220708T010000Z
X-MICROSOFT-CDO-ALLDAYEVENT:FALSE
SUMMARY:7000 Apart: Summer Songbird Series
DESCRIPTION:Join us at Jaybird Cafe & Spirits from 7pm-8pm to enjoy live\, original music from 7000 Apart!\n\n\n\nHere's what you need to know:\n\n	Opening artists start at 6:30pm. Main show at 7:00pm.\n	Come early for dinner and drinks\, grab a seat.\n	Artists will be performing all original materials in listening room style\n	$10 suggested donation with all profits going to the artist.\n\n\n\n**Full summer lineup now on our page**
X-ALT-DESC;FMTTYPE=text/html:Join us at Jaybird Cafe &amp\; Spirits from 7pm-8pm to enjoy live\, original music from 7000 Apart!<br />\n<br />\nHere&#39\;s what you need to know:\n<ul>\n	<li>Opening artists start at 6:30pm. Main show at 7:00pm.</li>\n	<li>Come early for dinner and drinks\, grab a seat.</li>\n	<li>Artists will be performing all original materials in listening room style</li>\n	<li>$10 suggested donation with all profits going to the artist.</li>\n</ul>\n<br />\n**Full summer lineup now on our page**
LOCATION:Jaybird Cafe & Spirits: 550 Water St\, Prairie du Sac
UID:e.1184.27972
SEQUENCE:3
DTSTAMP:20260421T103947Z
URL:http://members.saukprairie.com/events/details/7000-apart-summer-songbird-series-27972
END:VEVENT

END:VCALENDAR
