BEGIN:VCALENDAR
VERSION:2.0
PRODID:-//ChamberMaster//Event Calendar 2.0//EN
METHOD:PUBLISH
X-PUBLISHED-TTL:P3D
REFRESH-INTERVAL:P3D
CALSCALE:GREGORIAN
BEGIN:VEVENT
DTSTART:20190614T180000Z
DTEND:20190614T193000Z
X-MICROSOFT-CDO-ALLDAYEVENT:FALSE
SUMMARY:8 Planet Mini Golf
DESCRIPTION:Swing for the stars at the library. Families can putt their way through the solar system on our 8 hole course located throughout the library's lower level. Golf balls and putters will be provided.
X-ALT-DESC;FMTTYPE=text/html:Swing for the stars at the library. Families can putt their way through the solar system on our 8 hole course located throughout the library&#39\;s lower level. Golf balls and putters will be provided.
LOCATION:515 Water Street Sauk City\, WI 53583
UID:e.1184.22353
SEQUENCE:3
DTSTAMP:20260423T153236Z
URL:http://members.saukprairie.com/events/details/8-planet-mini-golf-22353
END:VEVENT

END:VCALENDAR
