BEGIN:VCALENDAR
VERSION:2.0
PRODID:-//ChamberMaster//Event Calendar 2.0//EN
METHOD:PUBLISH
X-PUBLISHED-TTL:P3D
REFRESH-INTERVAL:P3D
CALSCALE:GREGORIAN
BEGIN:VEVENT
DTSTART;VALUE=DATE:20230429
DTEND;VALUE=DATE:20230430
TRANSP:TRANSPARENT
X-MICROSOFT-CDO-ALLDAYEVENT:TRUE
SUMMARY:80's Prom Party!
DESCRIPTION:Fundraiser for Bar Buddies - 80s Prom Party!\n\n\n\nA prom king and queen will be crowned!\n\n50/50 raffles and Basket Raffles\n\n\n\nCome dressed to impress in your 80's and get ready to experience everything 80's!
X-ALT-DESC;FMTTYPE=text/html:Fundraiser for Bar Buddies - 80s Prom Party!<br />\n<br />\nA prom king and queen will be crowned!<br />\n50/50 raffles and Basket Raffles<br />\n<br />\nCome dressed to impress in your 80&#39\;s and get ready to experience everything 80&#39\;s!<br />\n&nbsp\;
LOCATION:Antique Tap
UID:e.1184.30703
SEQUENCE:3
DTSTAMP:20260420T153732Z
URL:http://members.saukprairie.com/events/details/80-s-prom-party-30703
END:VEVENT

END:VCALENDAR
