BEGIN:VCALENDAR
VERSION:2.0
PRODID:-//ChamberMaster//Event Calendar 2.0//EN
METHOD:PUBLISH
X-PUBLISHED-TTL:P3D
REFRESH-INTERVAL:P3D
CALSCALE:GREGORIAN
BEGIN:VEVENT
DTSTART;VALUE=DATE:20200821
DTEND;VALUE=DATE:20200824
TRANSP:TRANSPARENT
X-MICROSOFT-CDO-ALLDAYEVENT:TRUE
SUMMARY:89th WISCONSIN STATE SKEET CHAMPIONSHIPS
DESCRIPTION:To view event details\, click here
X-ALT-DESC;FMTTYPE=text/html:To view event details\, <a href="https://drive.google.com/file/d/1oNyijw8ZRJuFUL3C0GRVftonnIJWil0u/view">click here</a>
LOCATION:
UID:e.1184.26072
SEQUENCE:3
DTSTAMP:20260422T182549Z
URL:http://members.saukprairie.com/events/details/89th-wisconsin-state-skeet-championships-26072
END:VEVENT

END:VCALENDAR
