BEGIN:VCALENDAR
VERSION:2.0
PRODID:-//ChamberMaster//Event Calendar 2.0//EN
METHOD:PUBLISH
X-PUBLISHED-TTL:P3D
REFRESH-INTERVAL:P3D
CALSCALE:GREGORIAN
BEGIN:VEVENT
DTSTART;VALUE=DATE:20241214
DTEND;VALUE=DATE:20241216
TRANSP:TRANSPARENT
X-MICROSOFT-CDO-ALLDAYEVENT:TRUE
SUMMARY:8th Annual Holiday Shop
DESCRIPTION:9th Annual Holiday Shop!\n\n\n\n70+ Crafter's/Vendor's \n\nCookie Sale\n\n\n\nSanta will be here on Sunday!  10am-noon
X-ALT-DESC;FMTTYPE=text/html:9th Annual Holiday Shop!<br />\n<br />\n70+ Crafter&#39\;s/Vendor&#39\;s&nbsp\;<br />\nCookie Sale<br />\n<br />\nSanta will be here on Sunday!&nbsp\; 10am-noon
LOCATION:Bridges Elementary School 1200 Broadway St. Prairie du Sac\, WI 53578
UID:e.1184.34541
SEQUENCE:3
DTSTAMP:20260419T115839Z
URL:http://members.saukprairie.com/events/details/8th-annual-holiday-shop-34541
END:VEVENT

END:VCALENDAR
