BEGIN:VCALENDAR
VERSION:2.0
PRODID:-//ChamberMaster//Event Calendar 2.0//EN
METHOD:PUBLISH
X-PUBLISHED-TTL:P3D
REFRESH-INTERVAL:P3D
CALSCALE:GREGORIAN
BEGIN:VEVENT
DTSTART;VALUE=DATE:20210916
DTEND;VALUE=DATE:20210919
TRANSP:TRANSPARENT
X-MICROSOFT-CDO-ALLDAYEVENT:TRUE
SUMMARY:8th Annual Rummage Sale
DESCRIPTION:8th Annual rummage sale at River Hills Church\, 1111 Sycamore St Sauk City\, Sept 16-18th. Everything is priced to go. Household items\, baby stuff\, clothing\, shoes\, furniture\, mirrors\, changing table\, collectibles\, tools\, something for everyone! All proceeds go to support local missionary in Puebla Mexico. Thursday and Friday 8am-5pm\, Saturday 8am to 1pm.
X-ALT-DESC;FMTTYPE=text/html:<span style="color: rgb(5\, 5\, 5)\; font-family: &quot\;Segoe UI Historic&quot\;\, &quot\;Segoe UI&quot\;\, Helvetica\, Arial\, sans-serif\; font-size: 15px\; white-space: pre-wrap\;">8th Annual rummage sale at River Hills Church\, 1111 Sycamore St Sauk City\, Sept 16-18th. Everything is priced to go. Household items\, baby stuff\, clothing\, shoes\, furniture\, mirrors\, changing table\, collectibles\, tools\, something for everyone! All proceeds go to support local missionary in Puebla Mexico. Thursday and Friday 8am-5pm\, Saturday 8am to 1pm.</span>
LOCATION:
UID:e.1184.26893
SEQUENCE:3
DTSTAMP:20260421T230941Z
URL:http://members.saukprairie.com/events/details/8th-annual-rummage-sale-26893
END:VEVENT

END:VCALENDAR
