BEGIN:VCALENDAR
VERSION:2.0
PRODID:-//ChamberMaster//Event Calendar 2.0//EN
METHOD:PUBLISH
X-PUBLISHED-TTL:P3D
REFRESH-INTERVAL:P3D
CALSCALE:GREGORIAN
BEGIN:VEVENT
DTSTART;VALUE=DATE:20220826
DTEND;VALUE=DATE:20220829
TRANSP:TRANSPARENT
X-MICROSOFT-CDO-ALLDAYEVENT:TRUE
SUMMARY:91st WISCONSIN STATE SKEET CHAMPIONSHIPS
DESCRIPTION:To view event details\, click here
X-ALT-DESC;FMTTYPE=text/html:To view event details\, <a href="https://sauktrapandskt.com/event/wssa-state-championships-no-open-shooting/">click here</a>
LOCATION:
UID:e.1184.28235
SEQUENCE:3
DTSTAMP:20260421T073646Z
URL:http://members.saukprairie.com/events/details/91st-wisconsin-state-skeet-championships-28235
END:VEVENT

END:VCALENDAR
