BEGIN:VCALENDAR
VERSION:2.0
PRODID:-//ChamberMaster//Event Calendar 2.0//EN
METHOD:PUBLISH
X-PUBLISHED-TTL:P3D
REFRESH-INTERVAL:P3D
CALSCALE:GREGORIAN
BEGIN:VEVENT
DTSTART;VALUE=DATE:20220305
DTEND;VALUE=DATE:20220307
TRANSP:TRANSPARENT
X-MICROSOFT-CDO-ALLDAYEVENT:TRUE
SUMMARY:9th Street Revue
DESCRIPTION:Sauk Prairie High School show choirs\, Executive Session\, and Y.T.B.N. present their end of year show\, which will include the show choir's performances as well as select individual and group acts. Sauk Prairie Middle School's Soaring Sound will also join Saturday afternoon's performance.
X-ALT-DESC;FMTTYPE=text/html:<span style="color: rgb(5\, 5\, 5)\; font-family: &quot\;Segoe UI Historic&quot\;\, &quot\;Segoe UI&quot\;\, Helvetica\, Arial\, sans-serif\; font-size: 15px\;">Sauk Prairie High School show choirs\, Executive Session\, and Y.T.B.N. present their end of year show\, which will include the show choir&#39\;s performances as well as select individual and group acts. Sauk Prairie Middle School&#39\;s Soaring Sound will also join Saturday afternoon&#39\;s performance.</span>
LOCATION:Sauk Prairie River Arts Center
UID:e.1184.27149
SEQUENCE:3
DTSTAMP:20260421T145846Z
URL:http://members.saukprairie.com/events/details/9th-street-revue-27149
END:VEVENT

END:VCALENDAR
