BEGIN:VCALENDAR
VERSION:2.0
PRODID:-//ChamberMaster//Event Calendar 2.0//EN
METHOD:PUBLISH
X-PUBLISHED-TTL:P3D
REFRESH-INTERVAL:P3D
CALSCALE:GREGORIAN
BEGIN:VEVENT
DTSTART:20240827T150000Z
DTEND:20240827T170000Z
X-MICROSOFT-CDO-ALLDAYEVENT:FALSE
SUMMARY:A Back-to-School Bubble Bash
DESCRIPTION:Come have some bubble fun during the last Tuesday before school starts!\n\n\n\nMake your own wand\, use your wand for bubble art\, make bubbles of all different sizes\, pop bubbles\, create bubble towers\, and more!\n\n\n\nWe are planning to do this in the park behind the library. If there is inclement weather\, we will set up a few of the stations inside the Community Room while we have an underwater movie playing.
X-ALT-DESC;FMTTYPE=text/html:Come have some bubble fun during the last Tuesday before school starts!<br />\n<br />\nMake your own wand\, use your wand for bubble art\, make bubbles of all different sizes\, pop bubbles\, create bubble towers\, and more!<br />\n<br />\nWe are planning to do this in the park behind the library. If there is inclement weather\, we will set up a few of the stations inside the Community Room while we have an underwater movie playing.
LOCATION:Ruth Culver Community Library (Prairie du Sac)
UID:e.1184.32984
SEQUENCE:3
DTSTAMP:20260419T162301Z
URL:http://members.saukprairie.com/events/details/a-back-to-school-bubble-bash-32984
END:VEVENT

END:VCALENDAR
