BEGIN:VCALENDAR
VERSION:2.0
PRODID:-//ChamberMaster//Event Calendar 2.0//EN
METHOD:PUBLISH
X-PUBLISHED-TTL:P3D
REFRESH-INTERVAL:P3D
CALSCALE:GREGORIAN
BEGIN:VEVENT
DTSTART:20181216T200000Z
DTEND:20181216T220000Z
X-MICROSOFT-CDO-ALLDAYEVENT:FALSE
SUMMARY:A Carpenters Christmas
DESCRIPTION:A Carpenters Christmas\n\nSunday\, December 16th\, 2018 2pm\n\nat the River Arts Center (105-9th Street\, Prairie du Sac)\n\nTickets: $25/adults  $10/students\n\n                         -\n\nWhile The Carpenters are known for over a dozen chart-topping hits\, they also won over their fans with their Christmas celebrations. Singer and playwright Lisa Rock and her band are keeping The Carpenters' holiday traditions alive and bringing their unforgettable Christmas songs to the stage. The show features "Merry Christmas Darling" and the jazzy "Santa Claus is Comin' to Town" and other spot-on renditions of the Carpenters' unforgettable Christmas tunes.\n\nLisa Rock has been performing to sold-out crowds for years. She's written more than 15 original concerts and cabarets that have been seen across the country. Now\, Rock has arranged a 6-piece band\, complete with back-up singers\, and together they are dedicated to creating a Carpenters experience like no other.
X-ALT-DESC;FMTTYPE=text/html:<p><strong>A Carpenters Christmas</strong></p>\n\n<p><strong>Sunday\, December 16th\, 2018 2pm</strong></p>\n\n<p>at the River Arts Center (105-9th Street\, Prairie du Sac)</p>\n\n<p>Tickets: $25/adults &nbsp\;$10/students</p>\n\n<p>&mdash\;&mdash\;&mdash\;&mdash\;&mdash\;&mdash\;&mdash\;&mdash\;&mdash\;&mdash\;&mdash\;&mdash\;&mdash\;&mdash\;&mdash\;&mdash\;&mdash\;&mdash\;&mdash\;&mdash\;&mdash\;&mdash\;&mdash\;&mdash\;&mdash\;-</p>\n\n<p>While The Carpenters are known for over a dozen chart-topping hits\, they also won over their fans with their Christmas celebrations. Singer and playwright Lisa Rock and her band are keeping The Carpenters&rsquo\; holiday traditions alive and bringing their unforgettable Christmas songs to the stage. The show features &ldquo\;Merry Christmas Darling&rdquo\; and the jazzy &ldquo\;Santa Claus is Comin&rsquo\; to Town&rdquo\; and other spot-on renditions of the Carpenters&rsquo\; unforgettable Christmas tunes.</p>\n\n<p>Lisa Rock has been performing to sold-out crowds for years. She&rsquo\;s written more than 15 original concerts and cabarets that have been seen across the country. Now\, Rock has arranged a 6-piece band\, complete with back-up singers\, and together they are dedicated to creating a Carpenters experience like no other.</p>\n
LOCATION:River Arts Center (105-9th Street\, Prairie du Sac)
UID:e.1184.20454
SEQUENCE:3
DTSTAMP:20260424T021023Z
URL:http://members.saukprairie.com/events/details/a-carpenters-christmas-20454
END:VEVENT

END:VCALENDAR
