BEGIN:VCALENDAR
VERSION:2.0
PRODID:-//ChamberMaster//Event Calendar 2.0//EN
METHOD:PUBLISH
X-PUBLISHED-TTL:P3D
REFRESH-INTERVAL:P3D
CALSCALE:GREGORIAN
BEGIN:VEVENT
DTSTART:20200408T233000Z
DTEND:20200409T013000Z
X-MICROSOFT-CDO-ALLDAYEVENT:FALSE
SUMMARY:A Discussion on Environmental Sustainability In the Sauk Prairie Area
DESCRIPTION:SACAA\n\nSauk Area Climate Awareness and Action Presents\n\n\n\nA Discussion on Environmental Sustainability In the Sauk Prairie Area\n\n \n\n  Hear a brief presentation on the climate crisis and local implications\n\n  Help make a list of our current assets \n\n  Help brainstorm goals for building on those assets for a more sustainable future for the Sauk Prairie area!\n\n\n\nBring your ideas!\n\nNo ongoing commitment required!\n\n\n\nALL ARE WELCOME!
X-ALT-DESC;FMTTYPE=text/html:<div>SACAA</div>\n\n<div>Sauk Area Climate Awareness and Action Presents</div>\n\n<div><br />\nA Discussion on Environmental Sustainability&nbsp\;In the Sauk Prairie Area</div>\n\n<div>&nbsp\;</div>\n\n<div>&bull\;<span style="white-space:pre"> </span>Hear a brief presentation on the climate crisis and local implications</div>\n\n<div>&bull\;<span style="white-space:pre"> </span>Help make a list of our current assets&nbsp\;</div>\n\n<div>&bull\;<span style="white-space:pre"> </span>Help brainstorm goals for building on those assets for a more sustainable future&nbsp\;for the Sauk Prairie area!<br />\n<br />\nBring your ideas!<br />\nNo ongoing commitment required!<br />\n<br />\nALL ARE WELCOME!</div>\n
LOCATION:River Arts Center 105 Ninth St. Prairie du Sac\, WI 53578
UID:e.1184.24119
SEQUENCE:3
DTSTAMP:20260423T012128Z
URL:http://members.saukprairie.com/events/details/a-discussion-on-environmental-sustainability-in-the-sauk-prairie-area-24119
END:VEVENT

END:VCALENDAR
