BEGIN:VCALENDAR
VERSION:2.0
PRODID:-//ChamberMaster//Event Calendar 2.0//EN
METHOD:PUBLISH
X-PUBLISHED-TTL:P3D
REFRESH-INTERVAL:P3D
CALSCALE:GREGORIAN
BEGIN:VEVENT
DTSTART:20230325T000000Z
DTEND:20230325T020000Z
X-MICROSOFT-CDO-ALLDAYEVENT:FALSE
SUMMARY:A Jerry Ensemble Cabaret
DESCRIPTION:Join us and settle in for a night of wonderful singing and cabaret entertainment! The Jerry Ensemble will delight you with songs from musical theatre classic gems to fresh on the scene contemporary shows. Hear solos\, duets\, trios and more by these accomplished high school singers. Hailing from over sixteen regional Wisconsin schools\, these exceptionally talented performers will make this an unforgettable evening. Sing along with your favorites\, learn new ones\, and get to know these outstanding entertainers! They are sure to touch your hearts and bring a smile to your face during this event.
X-ALT-DESC;FMTTYPE=text/html:<span style="color:rgb(0\, 0\, 0)\; font-family:arial\,helvetica\,sans-serif">Join us and settle in for a night of wonderful singing and&nbsp\;cabaret&nbsp\;entertainment! The Jerry Ensemble will delight you with songs from musical theatre classic gems to fresh on the scene contemporary shows. Hear solos\, duets\, trios and more by these accomplished high school singers. Hailing from over sixteen regional Wisconsin schools\, these exceptionally talented performers will make this an unforgettable&nbsp\;evening. Sing along with your favorites\, learn new ones\, and get to know these outstanding entertainers! They are sure to touch your hearts and bring a smile to your face during this event.</span>
LOCATION:105 9th St\, Prairie du Sac\, WI 53578
UID:e.1184.28222
SEQUENCE:3
DTSTAMP:20260420T164727Z
URL:http://members.saukprairie.com/events/details/a-jerry-ensemble-cabaret-28222
END:VEVENT

END:VCALENDAR
