BEGIN:VCALENDAR
VERSION:2.0
PRODID:-//ChamberMaster//Event Calendar 2.0//EN
METHOD:PUBLISH
X-PUBLISHED-TTL:P3D
REFRESH-INTERVAL:P3D
CALSCALE:GREGORIAN
BEGIN:VEVENT
DTSTART;VALUE=DATE:20200326
DTEND;VALUE=DATE:20200329
TRANSP:TRANSPARENT
X-MICROSOFT-CDO-ALLDAYEVENT:TRUE
SUMMARY:A Maker's Experience on the Threaded Streams Fiber Arts Trail
DESCRIPTION:'A MAKER'S EXPERIENCE' Renew yourself with a creative getaway on Threaded Streams Fiber Arts Trail! Baraboo   Prairie du Sac   Lodi   North Freedom\, Wisconsin March 26   28\, 2020 10:00   4:00 p.m. Daily Three days of inspiration to enrich your life with hands-on workshops and class offerings   Watch experienced makers demonstrate their skills   Conversations with artists be inspired with their maker stories and spaces   Join us for Fabrication   The Runway on Friday night   Tour a working alpaca farm   Visit the scenic Wisconsin River Valley and Baraboo Hills   Book a room at the restored\, historic Ringling House Bed & Breakfast in Baraboo or the vintage Victorian Dreams Bed & Breakfast in Lodi and relax   Shop local makers and businesses.
X-ALT-DESC;FMTTYPE=text/html:&lsquo\;A MAKER&rsquo\;S EXPERIENCE&rsquo\; Renew yourself with a creative getaway on Threaded Streams Fiber Arts Trail! Baraboo &ndash\; Prairie du Sac &ndash\; Lodi &ndash\; North Freedom\, Wisconsin March 26 &ndash\; 28\, 2020 10:00 &ndash\; 4:00 p.m. Daily Three days of inspiration to enrich your life with hands-on workshops and class offerings &bull\; Watch experienced makers demonstrate their skills &bull\; Conversations with artists&ndash\;be inspired with their maker stories and spaces &bull\; Join us for Fabrication &ndash\; The Runway on Friday night &bull\; Tour a working alpaca farm &bull\; Visit the scenic Wisconsin River Valley and Baraboo Hills &bull\; Book a room at the restored\, historic Ringling House Bed &amp\; Breakfast in Baraboo or the vintage Victorian Dreams Bed &amp\; Breakfast in Lodi and relax &bull\; Shop local makers and businesses.
LOCATION:Downtown Baraboo\, North Freedom\, Lodi\, Prairie du Sac
UID:e.1184.23731
SEQUENCE:3
DTSTAMP:20260423T025648Z
URL:http://members.saukprairie.com/events/details/a-maker-s-experience-on-the-threaded-streams-fiber-arts-trail-23731
END:VEVENT

END:VCALENDAR
