BEGIN:VCALENDAR
VERSION:2.0
PRODID:-//ChamberMaster//Event Calendar 2.0//EN
METHOD:PUBLISH
X-PUBLISHED-TTL:P3D
REFRESH-INTERVAL:P3D
CALSCALE:GREGORIAN
BEGIN:VEVENT
DTSTART;VALUE=DATE:20220401
DTEND;VALUE=DATE:20220404
TRANSP:TRANSPARENT
X-MICROSOFT-CDO-ALLDAYEVENT:TRUE
SUMMARY:A Night of Comedy Shorts
DESCRIPTION:Sauk Prairie Theatre Guild Presents: A Night of Comedy Shorts\n\n\n\nZombie Family Picnic\n\nBy Patrick Rainville Dorn\n\n\n\nMacbeth Mixed Up\n\nBy Wade Bradford\n\n\n\nThe Very Unmerry Adventures of Robin Hood\n\nBy Patrick Greene and Jason Pizzarello\n\n\n\nMurder Most Foul\n\nBy Don Lowry
X-ALT-DESC;FMTTYPE=text/html:Sauk Prairie Theatre Guild Presents: A Night of Comedy Shorts<br />\n<br />\nZombie Family Picnic<br />\nBy Patrick Rainville Dorn<br />\n<br />\nMacbeth Mixed Up<br />\nBy Wade Bradford<br />\n<br />\nThe Very Unmerry Adventures of Robin Hood<br />\nBy Patrick Greene and Jason Pizzarello<br />\n<br />\nMurder Most Foul<br />\nBy Don Lowry
LOCATION:Park Hall 307 Polk Street Sauk City
UID:e.1184.27190
SEQUENCE:3
DTSTAMP:20260421T134058Z
URL:http://members.saukprairie.com/events/details/a-night-of-comedy-shorts-27190
END:VEVENT

END:VCALENDAR
