BEGIN:VCALENDAR
VERSION:2.0
PRODID:-//ChamberMaster//Event Calendar 2.0//EN
METHOD:PUBLISH
X-PUBLISHED-TTL:P3D
REFRESH-INTERVAL:P3D
CALSCALE:GREGORIAN
BEGIN:VEVENT
DTSTART;VALUE=DATE:20230416
DTEND;VALUE=DATE:20230417
TRANSP:TRANSPARENT
X-MICROSOFT-CDO-ALLDAYEVENT:TRUE
SUMMARY:A Night of Macabredies
DESCRIPTION:Sauk Prairie Theatre Guild proudly presents\, "A Night of Macbredies"\n\n \n\nA collection of comedic plays with a macabre theme that we would love to share with you!\n\n \n\nFriday\, April 14th at 7pm\n\nSaturday\, April 15th at 7pm\n\nSunday\, April 16th at 2pm\n\n \n\nTickets available at the door\n\nBeer and wine available for purchase\n\n \n\nJoin us .if you dare MWAHAHAHA (insert spooky laugh here)
X-ALT-DESC;FMTTYPE=text/html:<div>Sauk Prairie Theatre Guild proudly presents\, &ldquo\;A Night of Macbredies&rdquo\;<br />\n&nbsp\;</div>\n\n<div>A collection of comedic plays with a macabre theme that we would love to share with you!<br />\n&nbsp\;</div>\n\n<div>Friday\, April 14th at 7pm<br />\nSaturday\, April 15th at 7pm<br />\nSunday\, April 16th at 2pm<br />\n&nbsp\;</div>\n\n<div>Tickets available at the door<br />\nBeer and wine available for purchase<br />\n&nbsp\;</div>\n\n<div>Join us&hellip\;.if you dare&hellip\;MWAHAHAHA (insert spooky laugh here)</div>\n
LOCATION:Park Hall 305 Polk St. Sauk City\, WI 53583
UID:e.1184.30708
SEQUENCE:3
DTSTAMP:20260420T144642Z
URL:http://members.saukprairie.com/events/details/a-night-of-macabredies-30708
END:VEVENT

END:VCALENDAR
