BEGIN:VCALENDAR
VERSION:2.0
PRODID:-//ChamberMaster//Event Calendar 2.0//EN
METHOD:PUBLISH
X-PUBLISHED-TTL:P3D
REFRESH-INTERVAL:P3D
CALSCALE:GREGORIAN
BEGIN:VEVENT
DTSTART;VALUE=DATE:20230414
DTEND;VALUE=DATE:20230417
TRANSP:TRANSPARENT
X-MICROSOFT-CDO-ALLDAYEVENT:TRUE
SUMMARY:A Night of Macabredies
DESCRIPTION:Sauk Prairie Theatre Guild Presents A Night of Macabredies.\n\n\n\nA pirate\, a vampie and a mortician walk into a bar...and comedy ensues\n\n	SKIP TRIP SASSY*\n	\n		By Brian Feehan\n	\n	\n	PIRATTITUE*\n	\n		By Marek Muller\n	\n	\n	DRACULA'S BOARDING HOUSE*\n	\n		By Matthew Carlin\n	\n	\n	THE MORGUE THE MERRIER*\n	\n		By Pat Cook\n	\n	\n\n*Produced by special arrangement with Heuer Publishing LLC of Cedar Rapids\, Iowa
X-ALT-DESC;FMTTYPE=text/html:Sauk Prairie Theatre Guild Presents A Night of Macabredies.<br />\n<br />\nA pirate\, a vampie and a mortician walk into a bar...and comedy ensues\n<ul>\n	<li>SKIP TRIP SASSY*\n	<ul>\n		<li>By Brian Feehan</li>\n	</ul>\n	</li>\n	<li>PIRATTITUE*\n	<ul>\n		<li>By Marek Muller</li>\n	</ul>\n	</li>\n	<li>DRACULA&#39\;S BOARDING HOUSE*\n	<ul>\n		<li>By Matthew Carlin</li>\n	</ul>\n	</li>\n	<li>THE MORGUE THE MERRIER*\n	<ul>\n		<li>By Pat Cook</li>\n	</ul>\n	</li>\n</ul>\n*Produced by special arrangement with Heuer Publishing LLC of Cedar Rapids\, Iowa
LOCATION:Performances at Historic Park Hall 307 Polk St.\, Sauk City
UID:e.1184.30718
SEQUENCE:3
DTSTAMP:20260420T144651Z
URL:http://members.saukprairie.com/events/details/a-night-of-macabredies-30718
END:VEVENT

END:VCALENDAR
