BEGIN:VCALENDAR
VERSION:2.0
PRODID:-//ChamberMaster//Event Calendar 2.0//EN
METHOD:PUBLISH
X-PUBLISHED-TTL:P3D
REFRESH-INTERVAL:P3D
CALSCALE:GREGORIAN
BEGIN:VEVENT
DTSTART:20160611T010000Z
DTEND:20160611T050000Z
X-MICROSOFT-CDO-ALLDAYEVENT:FALSE
SUMMARY:A night with "The Cal Stage Band" at Crystal Lake!
DESCRIPTION:The Cal Stage Band has been tearing up the Midwest's country music scene and leaving rolling shortage of Dr. Gullicuddy's cherry schnapps in their wake. A High Energy Country/Rock Band. Cost is $8.00 per person at the gate or free with camping. No Carry'ins allowed.
X-ALT-DESC;FMTTYPE=text/html:The Cal Stage Band has been tearing up the Midwest&#39\;s country music scene and leaving rolling shortage of Dr. Gullicuddy&#39\;s cherry schnapps in their wake. A High Energy Country/Rock Band. Cost is $8.00 per person at the gate or free with camping. No Carry&#39\;ins allowed.
LOCATION:Crystal Lake Campground and RV Park N550 Gannon Road Lodi WI 53555
UID:e.1184.6931
SEQUENCE:3
DTSTAMP:20260426T021028Z
URL:http://members.saukprairie.com/events/details/a-night-with-the-cal-stage-band-at-crystal-lake-06-10-2016-6931
END:VEVENT

END:VCALENDAR
