BEGIN:VCALENDAR
VERSION:2.0
PRODID:-//ChamberMaster//Event Calendar 2.0//EN
METHOD:PUBLISH
X-PUBLISHED-TTL:P3D
REFRESH-INTERVAL:P3D
CALSCALE:GREGORIAN
BEGIN:VEVENT
DTSTART:20170718T143000Z
DTEND:20170718T230000Z
X-MICROSOFT-CDO-ALLDAYEVENT:FALSE
SUMMARY:A Round with Agrace
DESCRIPTION:Join us for a summer getaway in the Dells at Trappers Turn Golf Club. It's a 18-holes of golf\, great camaraderie and the best weather of the season--all to support Agrace's mission of compassionate care.
X-ALT-DESC;FMTTYPE=text/html:Join us for a summer getaway in the Dells at Trappers Turn Golf Club. It&#39\;s a&nbsp\;18-holes of golf\, great camaraderie and the best weather of the season--all to support Agrace&#39\;s mission of compassionate care.
LOCATION:Trappers Turn
UID:e.1184.11688
SEQUENCE:3
DTSTAMP:20260425T032643Z
URL:http://members.saukprairie.com/events/details/a-round-with-agrace-11688
END:VEVENT

END:VCALENDAR
