BEGIN:VCALENDAR
VERSION:2.0
PRODID:-//ChamberMaster//Event Calendar 2.0//EN
METHOD:PUBLISH
X-PUBLISHED-TTL:P3D
REFRESH-INTERVAL:P3D
CALSCALE:GREGORIAN
BEGIN:VEVENT
DTSTART:20181018T173000Z
DTEND:20181018T213000Z
X-MICROSOFT-CDO-ALLDAYEVENT:FALSE
SUMMARY:AARP Safe Driving Class
DESCRIPTION:AARP Driver Safety was first launched in 1979 to help keep older drivers independent\, safe and confident while on the road. Today\, AARP Driver Safety continues to meet the needs of older drivers through leading educational programs that include the AARP Smart Driver Course. The class\, taught by Dr. J. Tony DeGiovanni\, is offered at Maplewood Health & Rehabilitation Center\, 245 Sycamore St.\, Sauk City\, on Thursday\, October 18\, 2018\, 12:30-4:30pm is designed to help seniors drive safer\, longer. There is a nominal fee (cash or check as there is no credit card option available) for instruction materials: AARP members = $15\, Non-AARP members = $20. Please bring your driver's license and AARP card for registration purposes. Reservations are not necessary\, but they are welcome\, 643-3383. Many insurance companies offer discounts if their senior clients participate in a safe driving class. Ask your agent if you qualify for the discount.
X-ALT-DESC;FMTTYPE=text/html:AARP Driver Safety was first launched in 1979 to help keep older drivers independent\, safe and confident while on the road. Today\, AARP Driver Safety continues to meet the needs of older drivers through leading educational programs that include the AARP Smart Driver Course. The class\, taught by Dr. J. Tony DeGiovanni\, is offered at Maplewood Health &amp\; Rehabilitation Center\, 245 Sycamore St.\, Sauk City\, on Thursday\, October 18\, 2018\, 12:30-4:30pm is designed to help seniors drive safer\, longer. There is a nominal fee (cash or check as there is no credit card option available) for instruction materials: AARP members = $15\, Non-AARP members = $20. Please bring your driver&rsquo\;s license and AARP card for registration purposes. Reservations are not necessary\, but they are welcome\, 643-3383. Many insurance companies offer discounts if their senior clients participate in a safe driving class. Ask your agent if you qualify for the discount.
LOCATION:Maplewood of Sauk Prairie\, 245 Sycamore St.\, Sauk City\, WI 53583
UID:e.1184.14684
SEQUENCE:3
DTSTAMP:20260424T033726Z
URL:http://members.saukprairie.com/events/details/aarp-safe-driving-class-14684
END:VEVENT

END:VCALENDAR
