BEGIN:VCALENDAR
VERSION:2.0
PRODID:-//ChamberMaster//Event Calendar 2.0//EN
METHOD:PUBLISH
X-PUBLISHED-TTL:P3D
REFRESH-INTERVAL:P3D
CALSCALE:GREGORIAN
BEGIN:VEVENT
DTSTART:20181105T193000Z
DTEND:20181105T204500Z
X-MICROSOFT-CDO-ALLDAYEVENT:FALSE
SUMMARY:Abraham Lincoln and the Story of Thanksgiving
DESCRIPTION:Abraham Lincoln\, portrayed by Kevin J. Wood\, will visit the library and tell us how President Lincoln created the national holiday of Thanksgiving.\n\nKevin J. Wood\, a professional Lincoln presenter\, is extremely knowledgeable about the former president's life and times. He writes a blog\, Loath to Close Still\, and has more information on his website: www.mrlincoln.com.
X-ALT-DESC;FMTTYPE=text/html:<p>Abraham Lincoln\, portrayed by Kevin J. Wood\, will visit the library and tell us how President Lincoln created the national holiday of Thanksgiving.</p>\n\n<p>Kevin J. Wood\, a professional Lincoln presenter\, is extremely knowledgeable about the former president&rsquo\;s life and times. He writes a blog\,&nbsp\;<em>Loath to Close&hellip\;Still</em>\, and has more information on his website:&nbsp\;<a href="http://www.mrlincoln.com/English/index.html" style="margin: 0px\; padding: 0px\; border: 0px\; font-style: inherit\; font-variant: inherit\; font-weight: bold\; font-stretch: inherit\; font-size: inherit\; line-height: inherit\; font-family: inherit\; vertical-align: baseline\; color: rgb(153\, 51\, 0)\; outline: 0px\; text-decoration-line: none\;">www.mrlincoln.com</a>.</p>\n
LOCATION:Sauk City Public Library 515 Water Street\, Sauk City
UID:e.1184.21349
SEQUENCE:3
DTSTAMP:20260424T034302Z
URL:http://members.saukprairie.com/events/details/abraham-lincoln-and-the-story-of-thanksgiving-21349
END:VEVENT

END:VCALENDAR
