BEGIN:VCALENDAR
VERSION:2.0
PRODID:-//ChamberMaster//Event Calendar 2.0//EN
METHOD:PUBLISH
X-PUBLISHED-TTL:P3D
REFRESH-INTERVAL:P3D
CALSCALE:GREGORIAN
BEGIN:VEVENT
DTSTART:20171006T210000Z
DTEND:20171007T010000Z
X-MICROSOFT-CDO-ALLDAYEVENT:FALSE
SUMMARY:ACE HARDWARE SAUK PRAIRIE FALL COMMUNITY FAMILY FUN EVENT!
DESCRIPTION:Ace Sauk Prairie will be hosting this event for our customers\, employees\, community\, and families to enjoy We will have our fire pits on sale and displayed out front during the event for all to see.\n\n\n\nFood: S'mores cooked on one of our fire pits! Carmel apples\, and hot chocolate to keep you warm! Food and drinks are free!\n\n\n\nActivities: \n\n1.) Kids coloring contest with fall pictures! \n\n2.) Pumpkin decorating contest. Get creative and decorate how you want! If you would like to participate in this contest you may buy your pumpkin from Ace the day of the event at only half price! ***No carving allowed as it is messy and we want to put safety first**** (You may draw your pumpkin design or decorate it with anything you would like otherwise!!)\n\n3.) Apple Bobbing!\n\n\n\n***Fall Pictures and Pumpkins will be judged at 7:40 and prizes will be given away for the following categories: Most creative\, Scariest\, and Most Original!
X-ALT-DESC;FMTTYPE=text/html:<span style="background-color:rgb(255\, 255\, 255)\; color:rgb(75\, 79\, 86)\; font-family:helvetica\,arial\,sans-serif\; font-size:14px">Ace Sauk Prairie will be hosting this event for our customers\, employees\, community\, and families to enjoy We will have our fire pits on sale and displayed out front during the event for all to see.</span><br />\n<br />\n<span style="background-color:rgb(255\, 255\, 255)\; color:rgb(75\, 79\, 86)\; font-family:helvetica\,arial\,sans-serif\; font-size:14px">Food: S&rsquo\;mores cooked on one of our fire pits! Carmel apples\, and hot chocolate to keep you warm! Food and drinks are free!</span><br />\n<br />\n<span style="background-color:rgb(255\, 255\, 255)\; color:rgb(75\, 79\, 86)\; font-family:helvetica\,arial\,sans-serif\; font-size:14px">Activities:&nbsp\;</span><br />\n<span style="background-color:rgb(255\, 255\, 255)\; color:rgb(75\, 79\, 86)\; font-family:helvetica\,arial\,sans-serif\; font-size:14px">1.) Kids coloring contest with fall pictures!&nbsp\;</span><br />\n<span style="background-color:rgb(255\, 255\, 255)\; color:rgb(75\, 79\, 86)\; font-family:helvetica\,arial\,sans-serif\; font-size:14px">2.) Pumpkin decorating contest. Get creative and decorate how you want! If you would like to participate in this contest you may buy your pumpkin from Ace the day of the event at only half price! ***No carving allowed as it is messy and we want to put safety first**** (You may draw your pumpkin design or decorate it with anything you would like otherwise!!)</span><br />\n<span style="background-color:rgb(255\, 255\, 255)\; color:rgb(75\, 79\, 86)\; font-family:helvetica\,arial\,sans-serif\; font-size:14px">3.) Apple Bobbing!</span><br />\n<br />\n<span style="background-color:rgb(255\, 255\, 255)\; color:rgb(75\, 79\, 86)\; font-family:helvetica\,arial\,sans-serif\; font-size:14px">***Fall Pictures and Pumpkins will be judged at 7:40 and prizes will be given away for the following categories: Most creative\, Scariest\, and Most Original!</span>
LOCATION:Ace Hardware 500 Water St Sauk City\, WI
UID:e.1184.13957
SEQUENCE:3
DTSTAMP:20260425T000512Z
URL:http://members.saukprairie.com/events/details/ace-hardware-sauk-prairie-fall-community-family-fun-event-13957
END:VEVENT

END:VCALENDAR
