BEGIN:VCALENDAR
VERSION:2.0
PRODID:-//ChamberMaster//Event Calendar 2.0//EN
METHOD:PUBLISH
X-PUBLISHED-TTL:P3D
REFRESH-INTERVAL:P3D
CALSCALE:GREGORIAN
BEGIN:VEVENT
DTSTART;VALUE=DATE:20160703
DTEND;VALUE=DATE:20160704
TRANSP:TRANSPARENT
X-MICROSOFT-CDO-ALLDAYEVENT:TRUE
SUMMARY:Ace Sauk Prairie 65 Anniversary
DESCRIPTION:Sunday July 3rd 50% Off one regular priced item under $30 on Sunday\, July 3rd.
X-ALT-DESC;FMTTYPE=text/html:Sunday July 3rd 50% Off one regular priced item under $30 on Sunday\, July 3rd.
LOCATION:Ace Sauk Prairie
UID:e.1184.8818
SEQUENCE:3
DTSTAMP:20260426T003926Z
URL:http://members.saukprairie.com/events/details/ace-sauk-prairie-65-anniversary-07-03-2016-8818
END:VEVENT

END:VCALENDAR
