BEGIN:VCALENDAR
VERSION:2.0
PRODID:-//ChamberMaster//Event Calendar 2.0//EN
METHOD:PUBLISH
X-PUBLISHED-TTL:P3D
REFRESH-INTERVAL:P3D
CALSCALE:GREGORIAN
BEGIN:VEVENT
DTSTART:20160701T160000Z
DTEND:20160701T180000Z
X-MICROSOFT-CDO-ALLDAYEVENT:FALSE
SUMMARY:Ace Sauk Prairie 65th Anniversary Recycling Event
DESCRIPTION:Resource Solutions will be at Ace Sauk Prairie collecting computers\, electronics\, and appliances for recycling on Friday July 1\, from 11am-1pm. Residents of Sauk City\, Prairie du Sac\, and surrounding communities may bring these items to Ace Sauk Prairie\, located at 500 Water Street in Sauk City\, during this time.\n\n\n\n**EVENT PRICING**\n\n11am-1pm\n\nNo Charge for These Items: CPU's\, Laptops\, Keyboards\, Computer Mice\, Computer Cords\, Circuit Boards\, UPS\, Power Strips\, Calculators\, Scanners\, Printer Cables\, Printers\, Copiers\, Telephones\, Cell Phones\, Fax Machines\, VCR's\, DVD Players\, Stereo Equipment\, Remote Controls\, Networking Equipment\, Lead Acid Car Batteries\, Rechargeable batteries from laptops\,\n\ncell phones\, and power tools\, Christmas Lights\, Extension Cords\, Electric Motors\, Pots and Pans\, Ceiling Fans\, Box Fans\, Snow Blowers\, Grills\, George Foreman Grills\, Lawn Mowers (oil must be drained and tires removed)\n\n\n\nRecycling Fee for These Items\n\nMonitors CRT and LCD (Flat Screen) - $20 each\n\nTelevisions - $20/$40/$60\n\n29" and under - $20 each\n\n30" to 49" - $40 each\n\n50" and over\, Wooden Console\, Projection - $60 each\n\nAppliances - $15/$25\n\nMicrowaves - $15 each\n\nStoves\, Washers\, Dryers\, Water Heaters\, Furnaces - $25 each\n\nFreon-containing Appliances - $20/$35\n\nAir Conditioners\, Dehumidifiers\, Dorm Size Refrigerators - $20 each\n\nLarge Freon Appliances - $35 each\n\nFluorescent Light Bulbs: 4' and 8' - $1 each\n\n\n\n**Please call Resource Solutions for a price quote if you don't see your item listed**\n\n\n\nResource Solutions is ISO 14001:2004 Certified and is also an E-Cycle Wisconsin registered collector. At Resource Solutions\, all computers and electronics accepted for recycling will be recycled for their base metals\, glass\, and plastics.\n\n\n\nFor more information\, please call Resource Solutions at (608) 244-5451 or visit www.recyclethatstuff.com.
X-ALT-DESC;FMTTYPE=text/html:Resource Solutions will be at Ace Sauk Prairie collecting computers\, electronics\, and appliances for&nbsp\;recycling on Friday July 1\, from 11am-1pm. Residents of Sauk City\, Prairie du Sac\, and&nbsp\;surrounding communities may bring these items to Ace Sauk Prairie\, located at 500 Water Street&nbsp\;in Sauk City\, during this time.<br />\n<br />\n**EVENT PRICING**<br />\n11am-1pm<br />\nNo Charge for These Items: CPU&rsquo\;s\, Laptops\, Keyboards\, Computer Mice\, Computer Cords\,&nbsp\;Circuit Boards\, UPS\, Power Strips\, Calculators\, Scanners\, Printer Cables\, Printers\, Copiers\,&nbsp\;Telephones\, Cell Phones\, Fax Machines\, VCR&rsquo\;s\, DVD Players\, Stereo Equipment\, Remote&nbsp\;Controls\, Networking Equipment\, Lead Acid Car Batteries\, Rechargeable batteries from laptops\,<br />\ncell phones\, and power tools\, Christmas Lights\, Extension Cords\, Electric Motors\, Pots and Pans\,&nbsp\;Ceiling Fans\, Box Fans\, Snow Blowers\, Grills\, George Foreman Grills\, Lawn Mowers (oil must be&nbsp\;drained and tires removed)<br />\n<br />\nRecycling Fee for These Items<br />\nMonitors CRT and LCD (Flat Screen) - $20 each<br />\nTelevisions - $20/$40/$60<br />\n29&rdquo\; and under - $20 each<br />\n30&rdquo\; to 49&quot\; - $40 each<br />\n50&quot\; and over\, Wooden Console\, Projection - $60 each<br />\nAppliances - $15/$25<br />\nMicrowaves - $15 each<br />\nStoves\, Washers\, Dryers\, Water Heaters\, Furnaces - $25 each<br />\nFreon-containing Appliances - $20/$35<br />\nAir Conditioners\, Dehumidifiers\, Dorm Size Refrigerators - $20 each<br />\nLarge Freon Appliances - $35 each<br />\nFluorescent Light Bulbs: 4&rsquo\; and 8&rsquo\; - $1 each<br />\n<br />\n**Please call Resource Solutions for a price quote if you don&rsquo\;t see your item listed**<br />\n<br />\nResource Solutions is ISO 14001:2004 Certified and is also an E-Cycle Wisconsin registered&nbsp\;collector. At Resource Solutions\, all computers and electronics accepted for recycling will be&nbsp\;recycled for their base metals\, glass\, and plastics.<br />\n<br />\nFor more information\, please call Resource Solutions at (608) 244-5451 or visit&nbsp\;www.recyclethatstuff.com.
LOCATION:Ace Sauk Prairie
UID:e.1184.8816
SEQUENCE:3
DTSTAMP:20260425T224628Z
URL:http://members.saukprairie.com/events/details/ace-sauk-prairie-65th-anniversary-recycling-event-07-01-2016-8816
END:VEVENT

END:VCALENDAR
