BEGIN:VCALENDAR
VERSION:2.0
PRODID:-//ChamberMaster//Event Calendar 2.0//EN
METHOD:PUBLISH
X-PUBLISHED-TTL:P3D
REFRESH-INTERVAL:P3D
CALSCALE:GREGORIAN
BEGIN:VEVENT
DTSTART:20231007T180000Z
DTEND:20231007T200000Z
X-MICROSOFT-CDO-ALLDAYEVENT:FALSE
SUMMARY:Acrylic Pour Ornaments with Studio Sweet T
DESCRIPTION:Acrylic Pour Ornaments with Studio Sweet T\n\nSaturday\, October 7*\, 2023 | 1-3pm | Deadline to register: 10/29/22 by 4pm\n\n$80 All supplies are provided\n\nAges 13+\n\n\nMake your very own set of acrylic pour-painted ornaments! Choose three small ornaments\, or two large ones\, to create your very own holiday decor. Teyanna of Studio Sweet T will guide students through the process of color selection\, preparing the paint medium\, and pouring techniques. No prior experience is necessary! Students can choose their own colors\; photos provided are for reference.\n\n\nThis class can get messy! Aprons are provided\, but students are encouraged to wear clothing you wouldn't mind getting paint on. Acrylic will stain clothing.\n\n*Note: the ornaments will need several days to dry\, and then Teyanna will varnish them. Students will need to return to River Arts Studio from October 20-24 to pick up the finished ornaments.
X-ALT-DESC;FMTTYPE=text/html:<div>\n<p><strong>Acrylic Pour Ornaments with Studio Sweet T</strong></p>\n\n<p><strong>Saturday\, October 7*\, 2023 |&nbsp\;</strong>1-3pm | Deadline to register: 10/29/22 by 4pm</p>\n\n<p><strong>$80</strong>&nbsp\;All supplies are provided</p>\n\n<p><strong>Ages 13+</strong></p>\n\n<div>\n<div>Make your very own set of acrylic pour-painted ornaments! Choose three small ornaments\, or two large ones\, to create your very own holiday decor. Teyanna of Studio Sweet T will guide students through the process of color selection\, preparing the paint medium\, and pouring techniques. No prior experience is necessary! Students can choose their own colors\; photos provided are for reference.</div>\n</div>\n\n<p>This class can get messy! Aprons are provided\, but students are encouraged to wear clothing you wouldn&rsquo\;t mind getting paint on. Acrylic will stain clothing.</p>\n\n<p>*<strong>Note</strong>: the ornaments will need several days to dry\, and then Teyanna will varnish them.&nbsp\;<strong>Students will need to return to River Arts Studio from October 20-24 to pick up the finished ornaments</strong>.</p>\n</div>\n
LOCATION:590 Water St\, Prairie du Sac\, WI
UID:e.1184.30985
SEQUENCE:3
DTSTAMP:20260420T062133Z
URL:http://members.saukprairie.com/events/details/acrylic-pour-ornaments-with-studio-sweet-t-10-07-2023-30985
END:VEVENT

END:VCALENDAR
