BEGIN:VCALENDAR
VERSION:2.0
PRODID:-//ChamberMaster//Event Calendar 2.0//EN
METHOD:PUBLISH
X-PUBLISHED-TTL:P3D
REFRESH-INTERVAL:P3D
CALSCALE:GREGORIAN
BEGIN:VEVENT
DTSTART:20161015T000000Z
DTEND:20161015T020000Z
X-MICROSOFT-CDO-ALLDAYEVENT:FALSE
SUMMARY:Adam Trent: The Futurist (Star of Broadway's "The Illusionists")
DESCRIPTION:From Broadway's "The Illusionists" and featured on the "Today Show\," "Ellen DeGenerous Show\," and more\, Adam Trent is taking the magic world by storm. He blends dancing and singing to his own original pop music with innovative stage illusions\, charming wit\, and emotion to create an experience that is part magic show\, part concert\, and part standup comedy.  He's a star for a new generation of magic fans\, melding classic techniques\, dancing\, comedy\, and technology in a show that shatters stereotypes for those who think they've seen it all.  The futurist Adam Trent is here\; don't be left behind in the present!\n\n \n\n"Amazing!"   CBS News ?"A New Wave of Magic"   Loveland News?"Truly unlike any magician working today!"   Mania TV ?"Trent is this generation's newest star magician"   RA News ?"Adam Trent is best described as Justin Timberlake meets David Copperfield" GP4T Magazine?\n\n \n\nwww.riverartsinc.org
X-ALT-DESC;FMTTYPE=text/html:From Broadway&rsquo\;s &ldquo\;The Illusionists&rdquo\; and featured on the &ldquo\;Today Show\,&quot\; &ldquo\;Ellen DeGenerous Show\,&rdquo\; and more\, Adam Trent is taking the magic world by storm. He blends dancing and singing to his own original pop music with innovative stage illusions\, charming wit\, and emotion to create an experience that is part magic show\, part concert\, and part standup comedy.&nbsp\; He&#39\;s a star for a new generation of magic fans\, melding classic techniques\, dancing\, comedy\, and technology in a show that shatters stereotypes for those who think they&#39\;ve seen it all.&nbsp\; The futurist Adam Trent is here\; don&rsquo\;t be left behind in the present!<br />\n&nbsp\;<br />\n<strong><span style="color:black"><span style="font-family:verdana">&ldquo\;Amazing!&rdquo\; &ndash\; CBS News </span></span></strong>?<strong><span style="color:black"><span style="font-family:verdana">&ldquo\;A New Wave of Magic&rdquo\; &ndash\; Loveland News</span></span></strong>?<strong><span style="color:black"><span style="font-family:verdana">&ldquo\;Truly unlike any magician working today!&rdquo\; &ndash\; Mania TV </span></span></strong>?<strong><span style="color:black"><span style="font-family:verdana">&ldquo\;Trent is this generation&#39\;s newest star magician&rdquo\; &ndash\; RA News </span></span></strong>?<strong><span style="color:black"><span style="font-family:verdana">&ldquo\;Adam Trent is best described as Justin Timberlake meets David Copperfield&rdquo\; GP4T Magazine</span></span></strong>?<br />\n&nbsp\;<br />\nwww.riverartsinc.org
LOCATION:River Arts Center\, 105 9th St\, Prairie du Sac
UID:e.1184.8532
SEQUENCE:3
DTSTAMP:20260425T174802Z
URL:http://members.saukprairie.com/events/details/adam-trent-the-futurist-star-of-broadway-s-the-illusionists-10-14-2016-8532
END:VEVENT

END:VCALENDAR
