BEGIN:VCALENDAR
VERSION:2.0
PRODID:-//ChamberMaster//Event Calendar 2.0//EN
METHOD:PUBLISH
X-PUBLISHED-TTL:P3D
REFRESH-INTERVAL:P3D
CALSCALE:GREGORIAN
BEGIN:VEVENT
DTSTART:20190423T131500Z
DTEND:20190423T173000Z
X-MICROSOFT-CDO-ALLDAYEVENT:FALSE
SUMMARY:Administrative Professionals Event
DESCRIPTION:A BALANCE & SELF CARE EVENT TO HONOR & THANK YOU FOR ALL YOU DO\n\n \n\n\n	8:15am - River Arts Center Gallery | 105 Ninth St.\, Prairie du Sac\n	9:45am - Travel to Experience Stop #1\n	11:00am - Travel to Experience Stop #2\n	 Limit 2 people from a business\n	First Come First Serve up to 60 people\n	Dress Comfortably\n	RSVP: spacc@saukprairie.com\n\n\nYour morning will be full of fun\, relaxation and friendship.
X-ALT-DESC;FMTTYPE=text/html:<p><strong>A BALANCE &amp\; SELF CARE EVENT TO HONOR &amp\; THANK YOU FOR ALL YOU DO</strong><br />\n&nbsp\;</p>\n\n<ul>\n	<li>8:15am - River Arts Center Gallery | 105 Ninth St.\, Prairie du Sac</li>\n	<li>9:45am - Travel to Experience Stop #1</li>\n	<li>11:00am - Travel to Experience Stop #2</li>\n	<li>&#8203\;Limit 2 people from a business</li>\n	<li>First Come First Serve up to 60 people</li>\n	<li>Dress Comfortably</li>\n	<li>RSVP: spacc@saukprairie.com</li>\n</ul>\n\n<p>Your morning will be full of fun\, relaxation and friendship.<br />\n<br />\n&nbsp\;</p>\n
LOCATION:River Arts Center Gallery | 105 Ninth St.\, Prairie du Sac
UID:e.1184.22069
SEQUENCE:3
DTSTAMP:20260423T184155Z
URL:http://members.saukprairie.com/events/details/administrative-professionals-event-22069
END:VEVENT

END:VCALENDAR
