BEGIN:VCALENDAR
VERSION:2.0
PRODID:-//ChamberMaster//Event Calendar 2.0//EN
METHOD:PUBLISH
X-PUBLISHED-TTL:P3D
REFRESH-INTERVAL:P3D
CALSCALE:GREGORIAN
BEGIN:VEVENT
DTSTART:20200201T160000Z
DTEND:20200201T180000Z
X-MICROSOFT-CDO-ALLDAYEVENT:FALSE
SUMMARY:Adobe Lightroom: Photo Editing for Beginners with Mike Murray
DESCRIPTION:Adobe Lightroom: Photo Editing for Beginners with Mike Murray\n\nSaturday\, February 1\, 2020 | 10am-12pm | Ages 14+\n\n590 Water St\, Prairie du Sac\, WI 53578\n\nClass Fee: $25/person\n\n \n\nTaking a good photo is the first step. Next comes processing\, which can be intimidating and confusing. Spend a couple of hours with Mike Murray and let him put all of your processing fears behind you. \n\nLightroom is a powerful but simple photo processing tool that can turn your pictures from drab to vibrant and exciting with just a few alterations. Mike will go through his workflow\, show you some tricks and provide some one on one assistance with processing your own photos.\n\nStudents should bring: a laptop and charger\, 3-5 unprocessed photos\, and either have a Lightroom subscription\, or sign up for a free 30 day trial via Adobe before the morning of class (you can cancel free of charge if you decide not to keep it).
X-ALT-DESC;FMTTYPE=text/html:<p><strong>Adobe Lightroom: Photo Editing for Beginners with Mike Murray</strong></p>\n\n<p><strong>Saturday\, February 1\, 2020 | 10am-12pm | Ages 14+</strong></p>\n\n<p><strong>590 Water St\, Prairie du Sac\, WI 53578</strong></p>\n\n<p>Class Fee: $25/person<br />\n&nbsp\;</p>\n\n<p>Taking a good photo is the first step. Next comes processing\, which can be intimidating and confusing. Spend a couple of hours with Mike Murray and let him put all of your processing fears behind you.&nbsp\;</p>\n\n<p>Lightroom is a powerful but simple photo processing tool that can turn your pictures from drab to vibrant and exciting with just a few alterations. Mike will go through his workflow\, show you some tricks and provide some one on one assistance with processing your own photos.</p>\n\n<p><strong>Students should bring</strong>: a laptop and charger\, 3-5 unprocessed photos\, and either have a Lightroom subscription\, or sign up for a free 30 day trial via Adobe before the morning of class (you can cancel free of charge if you decide not to keep it).</p>\n
LOCATION:590 Water St\, Prairie du Sac\, WI 53578
UID:e.1184.23982
SEQUENCE:3
DTSTAMP:20260423T053613Z
URL:http://members.saukprairie.com/events/details/adobe-lightroom-photo-editing-for-beginners-with-mike-murray-23982
END:VEVENT

END:VCALENDAR
